BEGIN:VCALENDAR
VERSION:2.0
PRODID:-//City of Key Colony Beach Official City Website - ECPv6.15.20//NONSGML v1.0//EN
CALSCALE:GREGORIAN
METHOD:PUBLISH
X-WR-CALNAME:City of Key Colony Beach Official City Website
X-ORIGINAL-URL:https://keycolonybeach.net
X-WR-CALDESC:Events for City of Key Colony Beach Official City Website
REFRESH-INTERVAL;VALUE=DURATION:PT1H
X-Robots-Tag:noindex
X-PUBLISHED-TTL:PT1H
BEGIN:VTIMEZONE
TZID:America/New_York
BEGIN:DAYLIGHT
TZOFFSETFROM:-0500
TZOFFSETTO:-0400
TZNAME:EDT
DTSTART:20290311T070000
END:DAYLIGHT
BEGIN:STANDARD
TZOFFSETFROM:-0400
TZOFFSETTO:-0500
TZNAME:EST
DTSTART:20291104T060000
END:STANDARD
BEGIN:DAYLIGHT
TZOFFSETFROM:-0500
TZOFFSETTO:-0400
TZNAME:EDT
DTSTART:20300310T070000
END:DAYLIGHT
BEGIN:STANDARD
TZOFFSETFROM:-0400
TZOFFSETTO:-0500
TZNAME:EST
DTSTART:20301103T060000
END:STANDARD
BEGIN:DAYLIGHT
TZOFFSETFROM:-0500
TZOFFSETTO:-0400
TZNAME:EDT
DTSTART:20310309T070000
END:DAYLIGHT
BEGIN:STANDARD
TZOFFSETFROM:-0400
TZOFFSETTO:-0500
TZNAME:EST
DTSTART:20311102T060000
END:STANDARD
END:VTIMEZONE
BEGIN:VEVENT
DTSTART;TZID=America/New_York:20300521T153000
DTEND;TZID=America/New_York:20300521T173000
DTSTAMP:20260423T100002
CREATED:20251219T185950Z
LAST-MODIFIED:20251219T185950Z
UID:10007755-1905607800-1905615000@keycolonybeach.net
SUMMARY:Utility Board Meeting
DESCRIPTION:
URL:https://keycolonybeach.net/event/utility-board-meeting-3/2030-05-21/
END:VEVENT
BEGIN:VEVENT
DTSTART;TZID=America/New_York:20300522T080000
DTEND;TZID=America/New_York:20300522T090000
DTSTAMP:20260423T100002
CREATED:20260106T172903Z
LAST-MODIFIED:20260106T174734Z
UID:10008579-1905667200-1905670800@keycolonybeach.net
SUMMARY:Pilates @ 7th St Park near Bocce/Shuffleboard Ct.
DESCRIPTION:
URL:https://keycolonybeach.net/event/pilates-2-2/2030-05-22/
END:VEVENT
BEGIN:VEVENT
DTSTART;TZID=America/New_York:20300524T080000
DTEND;TZID=America/New_York:20300524T090000
DTSTAMP:20260423T100002
CREATED:20260106T172903Z
LAST-MODIFIED:20260106T174734Z
UID:10008580-1905840000-1905843600@keycolonybeach.net
SUMMARY:Pilates @ 7th St Park near Bocce/Shuffleboard Ct.
DESCRIPTION:
URL:https://keycolonybeach.net/event/pilates-2-2/2030-05-24/
END:VEVENT
BEGIN:VEVENT
DTSTART;TZID=America/New_York:20300527T080000
DTEND;TZID=America/New_York:20300527T090000
DTSTAMP:20260423T100002
CREATED:20260106T172903Z
LAST-MODIFIED:20260106T174734Z
UID:10008581-1906099200-1906102800@keycolonybeach.net
SUMMARY:Pilates @ 7th St Park near Bocce/Shuffleboard Ct.
DESCRIPTION:
URL:https://keycolonybeach.net/event/pilates-2-2/2030-05-27/
END:VEVENT
BEGIN:VEVENT
DTSTART;TZID=America/New_York:20300529T080000
DTEND;TZID=America/New_York:20300529T090000
DTSTAMP:20260423T100002
CREATED:20260106T172903Z
LAST-MODIFIED:20260106T174734Z
UID:10008582-1906272000-1906275600@keycolonybeach.net
SUMMARY:Pilates @ 7th St Park near Bocce/Shuffleboard Ct.
DESCRIPTION:
URL:https://keycolonybeach.net/event/pilates-2-2/2030-05-29/
END:VEVENT
BEGIN:VEVENT
DTSTART;TZID=America/New_York:20300531T080000
DTEND;TZID=America/New_York:20300531T090000
DTSTAMP:20260423T100002
CREATED:20260106T172903Z
LAST-MODIFIED:20260106T174734Z
UID:10008583-1906444800-1906448400@keycolonybeach.net
SUMMARY:Pilates @ 7th St Park near Bocce/Shuffleboard Ct.
DESCRIPTION:
URL:https://keycolonybeach.net/event/pilates-2-2/2030-05-31/
END:VEVENT
BEGIN:VEVENT
DTSTART;TZID=America/New_York:20300603T080000
DTEND;TZID=America/New_York:20300603T090000
DTSTAMP:20260423T100002
CREATED:20260106T172903Z
LAST-MODIFIED:20260106T174734Z
UID:10008584-1906704000-1906707600@keycolonybeach.net
SUMMARY:Pilates @ 7th St Park near Bocce/Shuffleboard Ct.
DESCRIPTION:
URL:https://keycolonybeach.net/event/pilates-2-2/2030-06-03/
END:VEVENT
BEGIN:VEVENT
DTSTART;TZID=America/New_York:20300604T103000
DTEND;TZID=America/New_York:20300604T113000
DTSTAMP:20260423T100002
CREATED:20251219T165940Z
LAST-MODIFIED:20251219T165940Z
UID:10007614-1906799400-1906803000@keycolonybeach.net
SUMMARY:Property Management Class
DESCRIPTION:
URL:https://keycolonybeach.net/event/property-management-class-7/2030-06-04/
END:VEVENT
BEGIN:VEVENT
DTSTART;TZID=America/New_York:20300605T080000
DTEND;TZID=America/New_York:20300605T090000
DTSTAMP:20260423T100002
CREATED:20260106T172903Z
LAST-MODIFIED:20260106T174734Z
UID:10008585-1906876800-1906880400@keycolonybeach.net
SUMMARY:Pilates @ 7th St Park near Bocce/Shuffleboard Ct.
DESCRIPTION:
URL:https://keycolonybeach.net/event/pilates-2-2/2030-06-05/
END:VEVENT
BEGIN:VEVENT
DTSTART;TZID=America/New_York:20300607T080000
DTEND;TZID=America/New_York:20300607T090000
DTSTAMP:20260423T100002
CREATED:20260106T172903Z
LAST-MODIFIED:20260106T174734Z
UID:10008586-1907049600-1907053200@keycolonybeach.net
SUMMARY:Pilates @ 7th St Park near Bocce/Shuffleboard Ct.
DESCRIPTION:
URL:https://keycolonybeach.net/event/pilates-2-2/2030-06-07/
END:VEVENT
BEGIN:VEVENT
DTSTART;TZID=America/New_York:20300607T180000
DTEND;TZID=America/New_York:20300607T210000
DTSTAMP:20260423T100002
CREATED:20251027T182914Z
LAST-MODIFIED:20251027T182914Z
UID:10006398-1907085600-1907096400@keycolonybeach.net
SUMMARY:Boating & Fishing Club Meeting 6pm
DESCRIPTION:
URL:https://keycolonybeach.net/event/boating-fishing-club-meeting-6pm/2030-06-07/
END:VEVENT
BEGIN:VEVENT
DTSTART;TZID=America/New_York:20300610T080000
DTEND;TZID=America/New_York:20300610T090000
DTSTAMP:20260423T100002
CREATED:20260106T172903Z
LAST-MODIFIED:20260106T174734Z
UID:10008587-1907308800-1907312400@keycolonybeach.net
SUMMARY:Pilates @ 7th St Park near Bocce/Shuffleboard Ct.
DESCRIPTION:
URL:https://keycolonybeach.net/event/pilates-2-2/2030-06-10/
END:VEVENT
BEGIN:VEVENT
DTSTART;TZID=America/New_York:20300611T100000
DTEND;TZID=America/New_York:20300611T120000
DTSTAMP:20260423T100002
CREATED:20260415T122359Z
LAST-MODIFIED:20260415T122400Z
UID:10008912-1907402400-1907409600@keycolonybeach.net
SUMMARY:Beautification Meeting Zoom only
DESCRIPTION:
URL:https://keycolonybeach.net/event/beautification-meeting-7/2030-06-11/
END:VEVENT
BEGIN:VEVENT
DTSTART;TZID=America/New_York:20300612T080000
DTEND;TZID=America/New_York:20300612T090000
DTSTAMP:20260423T100002
CREATED:20260106T172903Z
LAST-MODIFIED:20260106T174734Z
UID:10008588-1907481600-1907485200@keycolonybeach.net
SUMMARY:Pilates @ 7th St Park near Bocce/Shuffleboard Ct.
DESCRIPTION:
URL:https://keycolonybeach.net/event/pilates-2-2/2030-06-12/
END:VEVENT
BEGIN:VEVENT
DTSTART;TZID=America/New_York:20300613T100000
DTEND;TZID=America/New_York:20300613T120000
DTSTAMP:20260423T100002
CREATED:20260409T173003Z
LAST-MODIFIED:20260409T173004Z
UID:10008853-1907575200-1907582400@keycolonybeach.net
SUMMARY:Recreation Committee Meeting 10:00 AM Zoom only
DESCRIPTION:
URL:https://keycolonybeach.net/event/recreation-meeting-330-pm-3/2030-06-13/
END:VEVENT
BEGIN:VEVENT
DTSTART;TZID=America/New_York:20300613T150000
DTEND;TZID=America/New_York:20300613T170000
DTSTAMP:20260423T100002
CREATED:20251017T145821Z
LAST-MODIFIED:20260126T150149Z
UID:10005528-1907593200-1907600400@keycolonybeach.net
SUMMARY:Book Club 3pm
DESCRIPTION:
URL:https://keycolonybeach.net/event/book-club-2/2030-06-13/
END:VEVENT
BEGIN:VEVENT
DTSTART;TZID=America/New_York:20300614T080000
DTEND;TZID=America/New_York:20300614T090000
DTSTAMP:20260423T100002
CREATED:20260106T172903Z
LAST-MODIFIED:20260106T174734Z
UID:10008589-1907654400-1907658000@keycolonybeach.net
SUMMARY:Pilates @ 7th St Park near Bocce/Shuffleboard Ct.
DESCRIPTION:
URL:https://keycolonybeach.net/event/pilates-2-2/2030-06-14/
END:VEVENT
BEGIN:VEVENT
DTSTART;TZID=America/New_York:20300617T080000
DTEND;TZID=America/New_York:20300617T090000
DTSTAMP:20260423T100002
CREATED:20260106T172903Z
LAST-MODIFIED:20260106T174734Z
UID:10008590-1907913600-1907917200@keycolonybeach.net
SUMMARY:Pilates @ 7th St Park near Bocce/Shuffleboard Ct.
DESCRIPTION:
URL:https://keycolonybeach.net/event/pilates-2-2/2030-06-17/
END:VEVENT
BEGIN:VEVENT
DTSTART;TZID=America/New_York:20300618T153000
DTEND;TZID=America/New_York:20300618T173000
DTSTAMP:20260423T100002
CREATED:20251219T185950Z
LAST-MODIFIED:20251219T185950Z
UID:10007756-1908027000-1908034200@keycolonybeach.net
SUMMARY:Utility Board Meeting
DESCRIPTION:
URL:https://keycolonybeach.net/event/utility-board-meeting-3/2030-06-18/
END:VEVENT
BEGIN:VEVENT
DTSTART;TZID=America/New_York:20300619T080000
DTEND;TZID=America/New_York:20300619T090000
DTSTAMP:20260423T100002
CREATED:20260106T172903Z
LAST-MODIFIED:20260106T174734Z
UID:10008591-1908086400-1908090000@keycolonybeach.net
SUMMARY:Pilates @ 7th St Park near Bocce/Shuffleboard Ct.
DESCRIPTION:
URL:https://keycolonybeach.net/event/pilates-2-2/2030-06-19/
END:VEVENT
BEGIN:VEVENT
DTSTART;TZID=America/New_York:20300619T153000
DTEND;TZID=America/New_York:20300619T173000
DTSTAMP:20260423T100002
CREATED:20241211T133223Z
LAST-MODIFIED:20251219T190512Z
UID:10007824-1908113400-1908120600@keycolonybeach.net
SUMMARY:Planning & Zoning Meeting
DESCRIPTION:
URL:https://keycolonybeach.net/event/planning-zoning-meeting-5/2030-06-19/
END:VEVENT
BEGIN:VEVENT
DTSTART;TZID=America/New_York:20300620T153000
DTEND;TZID=America/New_York:20300620T173000
DTSTAMP:20260423T100003
CREATED:20260421T164137Z
LAST-MODIFIED:20260421T164137Z
UID:10009020-1908199800-1908207000@keycolonybeach.net
SUMMARY:City Commission Regular Meeting & Public Hearing
DESCRIPTION:
URL:https://keycolonybeach.net/event/city-commission-regular-meeting-public-hearing-5-2/2030-06-20/
LOCATION:Marble Hall\, 600 W Ocean Drive\, Key Colony Beach\, FL\, 33051
END:VEVENT
BEGIN:VEVENT
DTSTART;TZID=America/New_York:20300621T080000
DTEND;TZID=America/New_York:20300621T090000
DTSTAMP:20260423T100003
CREATED:20260106T172903Z
LAST-MODIFIED:20260106T174734Z
UID:10008592-1908259200-1908262800@keycolonybeach.net
SUMMARY:Pilates @ 7th St Park near Bocce/Shuffleboard Ct.
DESCRIPTION:
URL:https://keycolonybeach.net/event/pilates-2-2/2030-06-21/
END:VEVENT
BEGIN:VEVENT
DTSTART;TZID=America/New_York:20300624T080000
DTEND;TZID=America/New_York:20300624T090000
DTSTAMP:20260423T100003
CREATED:20260106T172903Z
LAST-MODIFIED:20260106T174734Z
UID:10008593-1908518400-1908522000@keycolonybeach.net
SUMMARY:Pilates @ 7th St Park near Bocce/Shuffleboard Ct.
DESCRIPTION:
URL:https://keycolonybeach.net/event/pilates-2-2/2030-06-24/
END:VEVENT
BEGIN:VEVENT
DTSTART;TZID=America/New_York:20300626T080000
DTEND;TZID=America/New_York:20300626T090000
DTSTAMP:20260423T100003
CREATED:20260106T172903Z
LAST-MODIFIED:20260106T174734Z
UID:10008594-1908691200-1908694800@keycolonybeach.net
SUMMARY:Pilates @ 7th St Park near Bocce/Shuffleboard Ct.
DESCRIPTION:
URL:https://keycolonybeach.net/event/pilates-2-2/2030-06-26/
END:VEVENT
BEGIN:VEVENT
DTSTART;TZID=America/New_York:20300628T080000
DTEND;TZID=America/New_York:20300628T090000
DTSTAMP:20260423T100003
CREATED:20260106T172903Z
LAST-MODIFIED:20260106T174734Z
UID:10008595-1908864000-1908867600@keycolonybeach.net
SUMMARY:Pilates @ 7th St Park near Bocce/Shuffleboard Ct.
DESCRIPTION:
URL:https://keycolonybeach.net/event/pilates-2-2/2030-06-28/
END:VEVENT
BEGIN:VEVENT
DTSTART;TZID=America/New_York:20300701T080000
DTEND;TZID=America/New_York:20300701T090000
DTSTAMP:20260423T100003
CREATED:20260106T172903Z
LAST-MODIFIED:20260106T174734Z
UID:10008596-1909123200-1909126800@keycolonybeach.net
SUMMARY:Pilates @ 7th St Park near Bocce/Shuffleboard Ct.
DESCRIPTION:
URL:https://keycolonybeach.net/event/pilates-2-2/2030-07-01/
END:VEVENT
BEGIN:VEVENT
DTSTART;TZID=America/New_York:20300702T103000
DTEND;TZID=America/New_York:20300702T113000
DTSTAMP:20260423T100003
CREATED:20251219T165940Z
LAST-MODIFIED:20251219T165940Z
UID:10007615-1909218600-1909222200@keycolonybeach.net
SUMMARY:Property Management Class
DESCRIPTION:
URL:https://keycolonybeach.net/event/property-management-class-7/2030-07-02/
END:VEVENT
BEGIN:VEVENT
DTSTART;TZID=America/New_York:20300703T080000
DTEND;TZID=America/New_York:20300703T090000
DTSTAMP:20260423T100003
CREATED:20260106T172903Z
LAST-MODIFIED:20260106T174734Z
UID:10008597-1909296000-1909299600@keycolonybeach.net
SUMMARY:Pilates @ 7th St Park near Bocce/Shuffleboard Ct.
DESCRIPTION:
URL:https://keycolonybeach.net/event/pilates-2-2/2030-07-03/
END:VEVENT
BEGIN:VEVENT
DTSTART;TZID=America/New_York:20300705T080000
DTEND;TZID=America/New_York:20300705T090000
DTSTAMP:20260423T100003
CREATED:20260106T172903Z
LAST-MODIFIED:20260106T174734Z
UID:10008598-1909468800-1909472400@keycolonybeach.net
SUMMARY:Pilates @ 7th St Park near Bocce/Shuffleboard Ct.
DESCRIPTION:
URL:https://keycolonybeach.net/event/pilates-2-2/2030-07-05/
END:VEVENT
END:VCALENDAR