BEGIN:VCALENDAR
VERSION:2.0
PRODID:-//City of Key Colony Beach Official City Website - ECPv6.15.20//NONSGML v1.0//EN
CALSCALE:GREGORIAN
METHOD:PUBLISH
X-ORIGINAL-URL:https://keycolonybeach.net
X-WR-CALDESC:Events for City of Key Colony Beach Official City Website
REFRESH-INTERVAL;VALUE=DURATION:PT1H
X-Robots-Tag:noindex
X-PUBLISHED-TTL:PT1H
BEGIN:VTIMEZONE
TZID:America/New_York
BEGIN:DAYLIGHT
TZOFFSETFROM:-0500
TZOFFSETTO:-0400
TZNAME:EDT
DTSTART:20290311T070000
END:DAYLIGHT
BEGIN:STANDARD
TZOFFSETFROM:-0400
TZOFFSETTO:-0500
TZNAME:EST
DTSTART:20291104T060000
END:STANDARD
BEGIN:DAYLIGHT
TZOFFSETFROM:-0500
TZOFFSETTO:-0400
TZNAME:EDT
DTSTART:20300310T070000
END:DAYLIGHT
BEGIN:STANDARD
TZOFFSETFROM:-0400
TZOFFSETTO:-0500
TZNAME:EST
DTSTART:20301103T060000
END:STANDARD
BEGIN:DAYLIGHT
TZOFFSETFROM:-0500
TZOFFSETTO:-0400
TZNAME:EDT
DTSTART:20310309T070000
END:DAYLIGHT
BEGIN:STANDARD
TZOFFSETFROM:-0400
TZOFFSETTO:-0500
TZNAME:EST
DTSTART:20311102T060000
END:STANDARD
END:VTIMEZONE
BEGIN:VEVENT
DTSTART;TZID=America/New_York:20300705T080000
DTEND;TZID=America/New_York:20300705T090000
DTSTAMP:20260423T145142
CREATED:20260106T172903Z
LAST-MODIFIED:20260106T174734Z
UID:10008598-1909468800-1909472400@keycolonybeach.net
SUMMARY:Pilates @ 7th St Park near Bocce/Shuffleboard Ct.
DESCRIPTION:
URL:https://keycolonybeach.net/event/pilates-2-2/2030-07-05/
END:VEVENT
BEGIN:VEVENT
DTSTART;TZID=America/New_York:20300705T180000
DTEND;TZID=America/New_York:20300705T210000
DTSTAMP:20260423T145142
CREATED:20251027T182914Z
LAST-MODIFIED:20251027T182914Z
UID:10006399-1909504800-1909515600@keycolonybeach.net
SUMMARY:Boating & Fishing Club Meeting 6pm
DESCRIPTION:
URL:https://keycolonybeach.net/event/boating-fishing-club-meeting-6pm/2030-07-05/
END:VEVENT
BEGIN:VEVENT
DTSTART;TZID=America/New_York:20300708T080000
DTEND;TZID=America/New_York:20300708T090000
DTSTAMP:20260423T145142
CREATED:20260106T172903Z
LAST-MODIFIED:20260106T174734Z
UID:10008599-1909728000-1909731600@keycolonybeach.net
SUMMARY:Pilates @ 7th St Park near Bocce/Shuffleboard Ct.
DESCRIPTION:
URL:https://keycolonybeach.net/event/pilates-2-2/2030-07-08/
END:VEVENT
BEGIN:VEVENT
DTSTART;TZID=America/New_York:20300709T100000
DTEND;TZID=America/New_York:20300709T120000
DTSTAMP:20260423T145142
CREATED:20260415T122359Z
LAST-MODIFIED:20260415T122400Z
UID:10008913-1909821600-1909828800@keycolonybeach.net
SUMMARY:Beautification Meeting Zoom only
DESCRIPTION:
URL:https://keycolonybeach.net/event/beautification-meeting-7/2030-07-09/
END:VEVENT
BEGIN:VEVENT
DTSTART;TZID=America/New_York:20300710T080000
DTEND;TZID=America/New_York:20300710T090000
DTSTAMP:20260423T145142
CREATED:20260106T172903Z
LAST-MODIFIED:20260106T174734Z
UID:10008600-1909900800-1909904400@keycolonybeach.net
SUMMARY:Pilates @ 7th St Park near Bocce/Shuffleboard Ct.
DESCRIPTION:
URL:https://keycolonybeach.net/event/pilates-2-2/2030-07-10/
END:VEVENT
BEGIN:VEVENT
DTSTART;TZID=America/New_York:20300711T100000
DTEND;TZID=America/New_York:20300711T120000
DTSTAMP:20260423T145142
CREATED:20260409T173003Z
LAST-MODIFIED:20260409T173004Z
UID:10008854-1909994400-1910001600@keycolonybeach.net
SUMMARY:Recreation Committee Meeting 10:00 AM Zoom only
DESCRIPTION:
URL:https://keycolonybeach.net/event/recreation-meeting-330-pm-3/2030-07-11/
END:VEVENT
BEGIN:VEVENT
DTSTART;TZID=America/New_York:20300711T150000
DTEND;TZID=America/New_York:20300711T170000
DTSTAMP:20260423T145142
CREATED:20251017T145821Z
LAST-MODIFIED:20260126T150149Z
UID:10006067-1910012400-1910019600@keycolonybeach.net
SUMMARY:Book Club 3pm
DESCRIPTION:
URL:https://keycolonybeach.net/event/book-club-2/2030-07-11/
END:VEVENT
BEGIN:VEVENT
DTSTART;TZID=America/New_York:20300712T080000
DTEND;TZID=America/New_York:20300712T090000
DTSTAMP:20260423T145142
CREATED:20260106T172903Z
LAST-MODIFIED:20260106T174734Z
UID:10008601-1910073600-1910077200@keycolonybeach.net
SUMMARY:Pilates @ 7th St Park near Bocce/Shuffleboard Ct.
DESCRIPTION:
URL:https://keycolonybeach.net/event/pilates-2-2/2030-07-12/
END:VEVENT
BEGIN:VEVENT
DTSTART;TZID=America/New_York:20300715T080000
DTEND;TZID=America/New_York:20300715T090000
DTSTAMP:20260423T145142
CREATED:20260106T172903Z
LAST-MODIFIED:20260106T174734Z
UID:10008602-1910332800-1910336400@keycolonybeach.net
SUMMARY:Pilates @ 7th St Park near Bocce/Shuffleboard Ct.
DESCRIPTION:
URL:https://keycolonybeach.net/event/pilates-2-2/2030-07-15/
END:VEVENT
BEGIN:VEVENT
DTSTART;TZID=America/New_York:20300716T153000
DTEND;TZID=America/New_York:20300716T173000
DTSTAMP:20260423T145142
CREATED:20251219T185950Z
LAST-MODIFIED:20251219T185950Z
UID:10007757-1910446200-1910453400@keycolonybeach.net
SUMMARY:Utility Board Meeting
DESCRIPTION:
URL:https://keycolonybeach.net/event/utility-board-meeting-3/2030-07-16/
END:VEVENT
BEGIN:VEVENT
DTSTART;TZID=America/New_York:20300717T080000
DTEND;TZID=America/New_York:20300717T090000
DTSTAMP:20260423T145142
CREATED:20260106T172903Z
LAST-MODIFIED:20260106T174734Z
UID:10008603-1910505600-1910509200@keycolonybeach.net
SUMMARY:Pilates @ 7th St Park near Bocce/Shuffleboard Ct.
DESCRIPTION:
URL:https://keycolonybeach.net/event/pilates-2-2/2030-07-17/
END:VEVENT
BEGIN:VEVENT
DTSTART;TZID=America/New_York:20300717T153000
DTEND;TZID=America/New_York:20300717T173000
DTSTAMP:20260423T145142
CREATED:20241211T133223Z
LAST-MODIFIED:20251219T190512Z
UID:10007825-1910532600-1910539800@keycolonybeach.net
SUMMARY:Planning & Zoning Meeting
DESCRIPTION:
URL:https://keycolonybeach.net/event/planning-zoning-meeting-5/2030-07-17/
END:VEVENT
BEGIN:VEVENT
DTSTART;TZID=America/New_York:20300718T153000
DTEND;TZID=America/New_York:20300718T173000
DTSTAMP:20260423T145142
CREATED:20260421T164137Z
LAST-MODIFIED:20260421T164137Z
UID:10009021-1910619000-1910626200@keycolonybeach.net
SUMMARY:City Commission Regular Meeting & Public Hearing
DESCRIPTION:
URL:https://keycolonybeach.net/event/city-commission-regular-meeting-public-hearing-5-2/2030-07-18/
LOCATION:Marble Hall\, 600 W Ocean Drive\, Key Colony Beach\, FL\, 33051
END:VEVENT
BEGIN:VEVENT
DTSTART;TZID=America/New_York:20300719T080000
DTEND;TZID=America/New_York:20300719T090000
DTSTAMP:20260423T145142
CREATED:20260106T172903Z
LAST-MODIFIED:20260106T174734Z
UID:10008604-1910678400-1910682000@keycolonybeach.net
SUMMARY:Pilates @ 7th St Park near Bocce/Shuffleboard Ct.
DESCRIPTION:
URL:https://keycolonybeach.net/event/pilates-2-2/2030-07-19/
END:VEVENT
BEGIN:VEVENT
DTSTART;TZID=America/New_York:20300722T080000
DTEND;TZID=America/New_York:20300722T090000
DTSTAMP:20260423T145142
CREATED:20260106T172903Z
LAST-MODIFIED:20260106T174734Z
UID:10008605-1910937600-1910941200@keycolonybeach.net
SUMMARY:Pilates @ 7th St Park near Bocce/Shuffleboard Ct.
DESCRIPTION:
URL:https://keycolonybeach.net/event/pilates-2-2/2030-07-22/
END:VEVENT
BEGIN:VEVENT
DTSTART;TZID=America/New_York:20300724T080000
DTEND;TZID=America/New_York:20300724T090000
DTSTAMP:20260423T145142
CREATED:20260106T172903Z
LAST-MODIFIED:20260106T174734Z
UID:10008606-1911110400-1911114000@keycolonybeach.net
SUMMARY:Pilates @ 7th St Park near Bocce/Shuffleboard Ct.
DESCRIPTION:
URL:https://keycolonybeach.net/event/pilates-2-2/2030-07-24/
END:VEVENT
BEGIN:VEVENT
DTSTART;TZID=America/New_York:20300726T080000
DTEND;TZID=America/New_York:20300726T090000
DTSTAMP:20260423T145142
CREATED:20260106T172903Z
LAST-MODIFIED:20260106T174734Z
UID:10008607-1911283200-1911286800@keycolonybeach.net
SUMMARY:Pilates @ 7th St Park near Bocce/Shuffleboard Ct.
DESCRIPTION:
URL:https://keycolonybeach.net/event/pilates-2-2/2030-07-26/
END:VEVENT
BEGIN:VEVENT
DTSTART;TZID=America/New_York:20300729T080000
DTEND;TZID=America/New_York:20300729T090000
DTSTAMP:20260423T145142
CREATED:20260106T172903Z
LAST-MODIFIED:20260106T174734Z
UID:10008608-1911542400-1911546000@keycolonybeach.net
SUMMARY:Pilates @ 7th St Park near Bocce/Shuffleboard Ct.
DESCRIPTION:
URL:https://keycolonybeach.net/event/pilates-2-2/2030-07-29/
END:VEVENT
BEGIN:VEVENT
DTSTART;TZID=America/New_York:20300731T080000
DTEND;TZID=America/New_York:20300731T090000
DTSTAMP:20260423T145142
CREATED:20260106T172903Z
LAST-MODIFIED:20260106T174734Z
UID:10008609-1911715200-1911718800@keycolonybeach.net
SUMMARY:Pilates @ 7th St Park near Bocce/Shuffleboard Ct.
DESCRIPTION:
URL:https://keycolonybeach.net/event/pilates-2-2/2030-07-31/
END:VEVENT
BEGIN:VEVENT
DTSTART;TZID=America/New_York:20300802T080000
DTEND;TZID=America/New_York:20300802T090000
DTSTAMP:20260423T145142
CREATED:20260106T172903Z
LAST-MODIFIED:20260106T174734Z
UID:10008610-1911888000-1911891600@keycolonybeach.net
SUMMARY:Pilates @ 7th St Park near Bocce/Shuffleboard Ct.
DESCRIPTION:
URL:https://keycolonybeach.net/event/pilates-2-2/2030-08-02/
END:VEVENT
BEGIN:VEVENT
DTSTART;TZID=America/New_York:20300802T180000
DTEND;TZID=America/New_York:20300802T210000
DTSTAMP:20260423T145142
CREATED:20251027T182914Z
LAST-MODIFIED:20251027T182914Z
UID:10006400-1911924000-1911934800@keycolonybeach.net
SUMMARY:Boating & Fishing Club Meeting 6pm
DESCRIPTION:
URL:https://keycolonybeach.net/event/boating-fishing-club-meeting-6pm/2030-08-02/
END:VEVENT
BEGIN:VEVENT
DTSTART;TZID=America/New_York:20300805T080000
DTEND;TZID=America/New_York:20300805T090000
DTSTAMP:20260423T145142
CREATED:20260106T172903Z
LAST-MODIFIED:20260106T174734Z
UID:10008611-1912147200-1912150800@keycolonybeach.net
SUMMARY:Pilates @ 7th St Park near Bocce/Shuffleboard Ct.
DESCRIPTION:
URL:https://keycolonybeach.net/event/pilates-2-2/2030-08-05/
END:VEVENT
BEGIN:VEVENT
DTSTART;TZID=America/New_York:20300806T103000
DTEND;TZID=America/New_York:20300806T113000
DTSTAMP:20260423T145142
CREATED:20251219T165940Z
LAST-MODIFIED:20251219T165940Z
UID:10007616-1912242600-1912246200@keycolonybeach.net
SUMMARY:Property Management Class
DESCRIPTION:
URL:https://keycolonybeach.net/event/property-management-class-7/2030-08-06/
END:VEVENT
BEGIN:VEVENT
DTSTART;TZID=America/New_York:20300807T080000
DTEND;TZID=America/New_York:20300807T090000
DTSTAMP:20260423T145142
CREATED:20260106T172903Z
LAST-MODIFIED:20260106T174734Z
UID:10008612-1912320000-1912323600@keycolonybeach.net
SUMMARY:Pilates @ 7th St Park near Bocce/Shuffleboard Ct.
DESCRIPTION:
URL:https://keycolonybeach.net/event/pilates-2-2/2030-08-07/
END:VEVENT
BEGIN:VEVENT
DTSTART;TZID=America/New_York:20300808T100000
DTEND;TZID=America/New_York:20300808T120000
DTSTAMP:20260423T145142
CREATED:20260409T173003Z
LAST-MODIFIED:20260409T173004Z
UID:10008855-1912413600-1912420800@keycolonybeach.net
SUMMARY:Recreation Committee Meeting 10:00 AM Zoom only
DESCRIPTION:
URL:https://keycolonybeach.net/event/recreation-meeting-330-pm-3/2030-08-08/
END:VEVENT
BEGIN:VEVENT
DTSTART;TZID=America/New_York:20300808T150000
DTEND;TZID=America/New_York:20300808T170000
DTSTAMP:20260423T145142
CREATED:20251017T145821Z
LAST-MODIFIED:20260126T150149Z
UID:10006068-1912431600-1912438800@keycolonybeach.net
SUMMARY:Book Club 3pm
DESCRIPTION:
URL:https://keycolonybeach.net/event/book-club-2/2030-08-08/
END:VEVENT
BEGIN:VEVENT
DTSTART;TZID=America/New_York:20300809T080000
DTEND;TZID=America/New_York:20300809T090000
DTSTAMP:20260423T145142
CREATED:20260106T172903Z
LAST-MODIFIED:20260106T174734Z
UID:10008613-1912492800-1912496400@keycolonybeach.net
SUMMARY:Pilates @ 7th St Park near Bocce/Shuffleboard Ct.
DESCRIPTION:
URL:https://keycolonybeach.net/event/pilates-2-2/2030-08-09/
END:VEVENT
BEGIN:VEVENT
DTSTART;TZID=America/New_York:20300812T080000
DTEND;TZID=America/New_York:20300812T090000
DTSTAMP:20260423T145142
CREATED:20260106T172903Z
LAST-MODIFIED:20260106T174734Z
UID:10008614-1912752000-1912755600@keycolonybeach.net
SUMMARY:Pilates @ 7th St Park near Bocce/Shuffleboard Ct.
DESCRIPTION:
URL:https://keycolonybeach.net/event/pilates-2-2/2030-08-12/
END:VEVENT
BEGIN:VEVENT
DTSTART;TZID=America/New_York:20300813T100000
DTEND;TZID=America/New_York:20300813T120000
DTSTAMP:20260423T145142
CREATED:20260415T122359Z
LAST-MODIFIED:20260415T122400Z
UID:10008914-1912845600-1912852800@keycolonybeach.net
SUMMARY:Beautification Meeting Zoom only
DESCRIPTION:
URL:https://keycolonybeach.net/event/beautification-meeting-7/2030-08-13/
END:VEVENT
BEGIN:VEVENT
DTSTART;TZID=America/New_York:20300814T080000
DTEND;TZID=America/New_York:20300814T090000
DTSTAMP:20260423T145142
CREATED:20260106T172903Z
LAST-MODIFIED:20260106T174734Z
UID:10008615-1912924800-1912928400@keycolonybeach.net
SUMMARY:Pilates @ 7th St Park near Bocce/Shuffleboard Ct.
DESCRIPTION:
URL:https://keycolonybeach.net/event/pilates-2-2/2030-08-14/
END:VEVENT
END:VCALENDAR