BEGIN:VCALENDAR
VERSION:2.0
PRODID:-//City of Key Colony Beach Official City Website - ECPv6.15.20//NONSGML v1.0//EN
CALSCALE:GREGORIAN
METHOD:PUBLISH
X-WR-CALNAME:City of Key Colony Beach Official City Website
X-ORIGINAL-URL:https://keycolonybeach.net
X-WR-CALDESC:Events for City of Key Colony Beach Official City Website
REFRESH-INTERVAL;VALUE=DURATION:PT1H
X-Robots-Tag:noindex
X-PUBLISHED-TTL:PT1H
BEGIN:VTIMEZONE
TZID:America/New_York
BEGIN:DAYLIGHT
TZOFFSETFROM:-0500
TZOFFSETTO:-0400
TZNAME:EDT
DTSTART:20290311T070000
END:DAYLIGHT
BEGIN:STANDARD
TZOFFSETFROM:-0400
TZOFFSETTO:-0500
TZNAME:EST
DTSTART:20291104T060000
END:STANDARD
BEGIN:DAYLIGHT
TZOFFSETFROM:-0500
TZOFFSETTO:-0400
TZNAME:EDT
DTSTART:20300310T070000
END:DAYLIGHT
BEGIN:STANDARD
TZOFFSETFROM:-0400
TZOFFSETTO:-0500
TZNAME:EST
DTSTART:20301103T060000
END:STANDARD
BEGIN:DAYLIGHT
TZOFFSETFROM:-0500
TZOFFSETTO:-0400
TZNAME:EDT
DTSTART:20310309T070000
END:DAYLIGHT
BEGIN:STANDARD
TZOFFSETFROM:-0400
TZOFFSETTO:-0500
TZNAME:EST
DTSTART:20311102T060000
END:STANDARD
END:VTIMEZONE
BEGIN:VEVENT
DTSTART;TZID=America/New_York:20300830T080000
DTEND;TZID=America/New_York:20300830T090000
DTSTAMP:20260423T210855
CREATED:20260106T172903Z
LAST-MODIFIED:20260106T174734Z
UID:10008622-1914307200-1914310800@keycolonybeach.net
SUMMARY:Pilates @ 7th St Park near Bocce/Shuffleboard Ct.
DESCRIPTION:
URL:https://keycolonybeach.net/event/pilates-2-2/2030-08-30/
END:VEVENT
BEGIN:VEVENT
DTSTART;TZID=America/New_York:20300902T080000
DTEND;TZID=America/New_York:20300902T090000
DTSTAMP:20260423T210855
CREATED:20260106T172903Z
LAST-MODIFIED:20260106T174734Z
UID:10008623-1914566400-1914570000@keycolonybeach.net
SUMMARY:Pilates @ 7th St Park near Bocce/Shuffleboard Ct.
DESCRIPTION:
URL:https://keycolonybeach.net/event/pilates-2-2/2030-09-02/
END:VEVENT
BEGIN:VEVENT
DTSTART;TZID=America/New_York:20300903T103000
DTEND;TZID=America/New_York:20300903T113000
DTSTAMP:20260423T210855
CREATED:20251219T165940Z
LAST-MODIFIED:20251219T165940Z
UID:10007617-1914661800-1914665400@keycolonybeach.net
SUMMARY:Property Management Class
DESCRIPTION:
URL:https://keycolonybeach.net/event/property-management-class-7/2030-09-03/
END:VEVENT
BEGIN:VEVENT
DTSTART;TZID=America/New_York:20300904T080000
DTEND;TZID=America/New_York:20300904T090000
DTSTAMP:20260423T210855
CREATED:20260106T172903Z
LAST-MODIFIED:20260106T174734Z
UID:10008624-1914739200-1914742800@keycolonybeach.net
SUMMARY:Pilates @ 7th St Park near Bocce/Shuffleboard Ct.
DESCRIPTION:
URL:https://keycolonybeach.net/event/pilates-2-2/2030-09-04/
END:VEVENT
BEGIN:VEVENT
DTSTART;TZID=America/New_York:20300906T080000
DTEND;TZID=America/New_York:20300906T090000
DTSTAMP:20260423T210855
CREATED:20260106T172903Z
LAST-MODIFIED:20260106T174734Z
UID:10008625-1914912000-1914915600@keycolonybeach.net
SUMMARY:Pilates @ 7th St Park near Bocce/Shuffleboard Ct.
DESCRIPTION:
URL:https://keycolonybeach.net/event/pilates-2-2/2030-09-06/
END:VEVENT
BEGIN:VEVENT
DTSTART;TZID=America/New_York:20300906T180000
DTEND;TZID=America/New_York:20300906T210000
DTSTAMP:20260423T210855
CREATED:20251027T182914Z
LAST-MODIFIED:20251027T182914Z
UID:10006401-1914948000-1914958800@keycolonybeach.net
SUMMARY:Boating & Fishing Club Meeting 6pm
DESCRIPTION:
URL:https://keycolonybeach.net/event/boating-fishing-club-meeting-6pm/2030-09-06/
END:VEVENT
BEGIN:VEVENT
DTSTART;TZID=America/New_York:20300909T080000
DTEND;TZID=America/New_York:20300909T090000
DTSTAMP:20260423T210855
CREATED:20260106T172903Z
LAST-MODIFIED:20260106T174734Z
UID:10008626-1915171200-1915174800@keycolonybeach.net
SUMMARY:Pilates @ 7th St Park near Bocce/Shuffleboard Ct.
DESCRIPTION:
URL:https://keycolonybeach.net/event/pilates-2-2/2030-09-09/
END:VEVENT
BEGIN:VEVENT
DTSTART;TZID=America/New_York:20300910T100000
DTEND;TZID=America/New_York:20300910T120000
DTSTAMP:20260423T210855
CREATED:20260415T122359Z
LAST-MODIFIED:20260415T122400Z
UID:10008915-1915264800-1915272000@keycolonybeach.net
SUMMARY:Beautification Meeting Zoom only
DESCRIPTION:
URL:https://keycolonybeach.net/event/beautification-meeting-7/2030-09-10/
END:VEVENT
BEGIN:VEVENT
DTSTART;TZID=America/New_York:20300911T080000
DTEND;TZID=America/New_York:20300911T090000
DTSTAMP:20260423T210855
CREATED:20260106T172903Z
LAST-MODIFIED:20260106T174734Z
UID:10008627-1915344000-1915347600@keycolonybeach.net
SUMMARY:Pilates @ 7th St Park near Bocce/Shuffleboard Ct.
DESCRIPTION:
URL:https://keycolonybeach.net/event/pilates-2-2/2030-09-11/
END:VEVENT
BEGIN:VEVENT
DTSTART;TZID=America/New_York:20300912T100000
DTEND;TZID=America/New_York:20300912T120000
DTSTAMP:20260423T210855
CREATED:20260409T173003Z
LAST-MODIFIED:20260409T173004Z
UID:10008856-1915437600-1915444800@keycolonybeach.net
SUMMARY:Recreation Committee Meeting 10:00 AM Zoom only
DESCRIPTION:
URL:https://keycolonybeach.net/event/recreation-meeting-330-pm-3/2030-09-12/
END:VEVENT
BEGIN:VEVENT
DTSTART;TZID=America/New_York:20300912T150000
DTEND;TZID=America/New_York:20300912T170000
DTSTAMP:20260423T210855
CREATED:20251017T145821Z
LAST-MODIFIED:20260126T150149Z
UID:10006069-1915455600-1915462800@keycolonybeach.net
SUMMARY:Book Club 3pm
DESCRIPTION:
URL:https://keycolonybeach.net/event/book-club-2/2030-09-12/
END:VEVENT
BEGIN:VEVENT
DTSTART;TZID=America/New_York:20300913T080000
DTEND;TZID=America/New_York:20300913T090000
DTSTAMP:20260423T210855
CREATED:20260106T172903Z
LAST-MODIFIED:20260106T174734Z
UID:10008628-1915516800-1915520400@keycolonybeach.net
SUMMARY:Pilates @ 7th St Park near Bocce/Shuffleboard Ct.
DESCRIPTION:
URL:https://keycolonybeach.net/event/pilates-2-2/2030-09-13/
END:VEVENT
BEGIN:VEVENT
DTSTART;TZID=America/New_York:20300916T080000
DTEND;TZID=America/New_York:20300916T090000
DTSTAMP:20260423T210855
CREATED:20260106T172903Z
LAST-MODIFIED:20260106T174734Z
UID:10008629-1915776000-1915779600@keycolonybeach.net
SUMMARY:Pilates @ 7th St Park near Bocce/Shuffleboard Ct.
DESCRIPTION:
URL:https://keycolonybeach.net/event/pilates-2-2/2030-09-16/
END:VEVENT
BEGIN:VEVENT
DTSTART;TZID=America/New_York:20300917T153000
DTEND;TZID=America/New_York:20300917T173000
DTSTAMP:20260423T210855
CREATED:20251219T185950Z
LAST-MODIFIED:20251219T185950Z
UID:10007759-1915889400-1915896600@keycolonybeach.net
SUMMARY:Utility Board Meeting
DESCRIPTION:
URL:https://keycolonybeach.net/event/utility-board-meeting-3/2030-09-17/
END:VEVENT
BEGIN:VEVENT
DTSTART;TZID=America/New_York:20300918T080000
DTEND;TZID=America/New_York:20300918T090000
DTSTAMP:20260423T210855
CREATED:20260106T172903Z
LAST-MODIFIED:20260106T174734Z
UID:10008630-1915948800-1915952400@keycolonybeach.net
SUMMARY:Pilates @ 7th St Park near Bocce/Shuffleboard Ct.
DESCRIPTION:
URL:https://keycolonybeach.net/event/pilates-2-2/2030-09-18/
END:VEVENT
BEGIN:VEVENT
DTSTART;TZID=America/New_York:20300918T153000
DTEND;TZID=America/New_York:20300918T173000
DTSTAMP:20260423T210855
CREATED:20241211T133223Z
LAST-MODIFIED:20251219T190512Z
UID:10007827-1915975800-1915983000@keycolonybeach.net
SUMMARY:Planning & Zoning Meeting
DESCRIPTION:
URL:https://keycolonybeach.net/event/planning-zoning-meeting-5/2030-09-18/
END:VEVENT
BEGIN:VEVENT
DTSTART;TZID=America/New_York:20300919T153000
DTEND;TZID=America/New_York:20300919T173000
DTSTAMP:20260423T210855
CREATED:20260421T164137Z
LAST-MODIFIED:20260421T164137Z
UID:10009023-1916062200-1916069400@keycolonybeach.net
SUMMARY:City Commission Regular Meeting & Public Hearing
DESCRIPTION:
URL:https://keycolonybeach.net/event/city-commission-regular-meeting-public-hearing-5-2/2030-09-19/
LOCATION:Marble Hall\, 600 W Ocean Drive\, Key Colony Beach\, FL\, 33051
END:VEVENT
BEGIN:VEVENT
DTSTART;TZID=America/New_York:20300920T080000
DTEND;TZID=America/New_York:20300920T090000
DTSTAMP:20260423T210855
CREATED:20260106T172903Z
LAST-MODIFIED:20260106T174734Z
UID:10008631-1916121600-1916125200@keycolonybeach.net
SUMMARY:Pilates @ 7th St Park near Bocce/Shuffleboard Ct.
DESCRIPTION:
URL:https://keycolonybeach.net/event/pilates-2-2/2030-09-20/
END:VEVENT
BEGIN:VEVENT
DTSTART;TZID=America/New_York:20300923T080000
DTEND;TZID=America/New_York:20300923T090000
DTSTAMP:20260423T210855
CREATED:20260106T172903Z
LAST-MODIFIED:20260106T174734Z
UID:10008632-1916380800-1916384400@keycolonybeach.net
SUMMARY:Pilates @ 7th St Park near Bocce/Shuffleboard Ct.
DESCRIPTION:
URL:https://keycolonybeach.net/event/pilates-2-2/2030-09-23/
END:VEVENT
BEGIN:VEVENT
DTSTART;TZID=America/New_York:20300925T080000
DTEND;TZID=America/New_York:20300925T090000
DTSTAMP:20260423T210855
CREATED:20260106T172903Z
LAST-MODIFIED:20260106T174734Z
UID:10008633-1916553600-1916557200@keycolonybeach.net
SUMMARY:Pilates @ 7th St Park near Bocce/Shuffleboard Ct.
DESCRIPTION:
URL:https://keycolonybeach.net/event/pilates-2-2/2030-09-25/
END:VEVENT
BEGIN:VEVENT
DTSTART;TZID=America/New_York:20300927T080000
DTEND;TZID=America/New_York:20300927T090000
DTSTAMP:20260423T210855
CREATED:20260106T172903Z
LAST-MODIFIED:20260106T174734Z
UID:10008634-1916726400-1916730000@keycolonybeach.net
SUMMARY:Pilates @ 7th St Park near Bocce/Shuffleboard Ct.
DESCRIPTION:
URL:https://keycolonybeach.net/event/pilates-2-2/2030-09-27/
END:VEVENT
BEGIN:VEVENT
DTSTART;TZID=America/New_York:20300930T080000
DTEND;TZID=America/New_York:20300930T090000
DTSTAMP:20260423T210855
CREATED:20260106T172903Z
LAST-MODIFIED:20260106T174734Z
UID:10008635-1916985600-1916989200@keycolonybeach.net
SUMMARY:Pilates @ 7th St Park near Bocce/Shuffleboard Ct.
DESCRIPTION:
URL:https://keycolonybeach.net/event/pilates-2-2/2030-09-30/
END:VEVENT
BEGIN:VEVENT
DTSTART;TZID=America/New_York:20301001T103000
DTEND;TZID=America/New_York:20301001T113000
DTSTAMP:20260423T210855
CREATED:20251219T165940Z
LAST-MODIFIED:20251219T165940Z
UID:10007618-1917081000-1917084600@keycolonybeach.net
SUMMARY:Property Management Class
DESCRIPTION:
URL:https://keycolonybeach.net/event/property-management-class-7/2030-10-01/
END:VEVENT
BEGIN:VEVENT
DTSTART;VALUE=DATE:20301002
DTEND;VALUE=DATE:20301003
DTSTAMP:20260423T210855
CREATED:20231128T135911Z
LAST-MODIFIED:20231128T135911Z
UID:10005968-1917129600-1917215999@keycolonybeach.net
SUMMARY:Ron Sutton Day
DESCRIPTION:
URL:https://keycolonybeach.net/event/ron-sutton-day/2030-10-02/
END:VEVENT
BEGIN:VEVENT
DTSTART;TZID=America/New_York:20301002T080000
DTEND;TZID=America/New_York:20301002T090000
DTSTAMP:20260423T210855
CREATED:20260106T172903Z
LAST-MODIFIED:20260106T174734Z
UID:10008636-1917158400-1917162000@keycolonybeach.net
SUMMARY:Pilates @ 7th St Park near Bocce/Shuffleboard Ct.
DESCRIPTION:
URL:https://keycolonybeach.net/event/pilates-2-2/2030-10-02/
END:VEVENT
BEGIN:VEVENT
DTSTART;TZID=America/New_York:20301004T080000
DTEND;TZID=America/New_York:20301004T090000
DTSTAMP:20260423T210855
CREATED:20260106T172903Z
LAST-MODIFIED:20260106T174734Z
UID:10008637-1917331200-1917334800@keycolonybeach.net
SUMMARY:Pilates @ 7th St Park near Bocce/Shuffleboard Ct.
DESCRIPTION:
URL:https://keycolonybeach.net/event/pilates-2-2/2030-10-04/
END:VEVENT
BEGIN:VEVENT
DTSTART;TZID=America/New_York:20301004T180000
DTEND;TZID=America/New_York:20301004T210000
DTSTAMP:20260423T210855
CREATED:20251027T182914Z
LAST-MODIFIED:20251027T182914Z
UID:10006402-1917367200-1917378000@keycolonybeach.net
SUMMARY:Boating & Fishing Club Meeting 6pm
DESCRIPTION:
URL:https://keycolonybeach.net/event/boating-fishing-club-meeting-6pm/2030-10-04/
END:VEVENT
BEGIN:VEVENT
DTSTART;TZID=America/New_York:20301007T080000
DTEND;TZID=America/New_York:20301007T090000
DTSTAMP:20260423T210855
CREATED:20260106T172903Z
LAST-MODIFIED:20260106T174734Z
UID:10008638-1917590400-1917594000@keycolonybeach.net
SUMMARY:Pilates @ 7th St Park near Bocce/Shuffleboard Ct.
DESCRIPTION:
URL:https://keycolonybeach.net/event/pilates-2-2/2030-10-07/
END:VEVENT
BEGIN:VEVENT
DTSTART;TZID=America/New_York:20301008T100000
DTEND;TZID=America/New_York:20301008T120000
DTSTAMP:20260423T210855
CREATED:20260415T122359Z
LAST-MODIFIED:20260415T122400Z
UID:10008916-1917684000-1917691200@keycolonybeach.net
SUMMARY:Beautification Meeting Zoom only
DESCRIPTION:
URL:https://keycolonybeach.net/event/beautification-meeting-7/2030-10-08/
END:VEVENT
BEGIN:VEVENT
DTSTART;TZID=America/New_York:20301009T080000
DTEND;TZID=America/New_York:20301009T090000
DTSTAMP:20260423T210855
CREATED:20260106T172903Z
LAST-MODIFIED:20260106T174734Z
UID:10008639-1917763200-1917766800@keycolonybeach.net
SUMMARY:Pilates @ 7th St Park near Bocce/Shuffleboard Ct.
DESCRIPTION:
URL:https://keycolonybeach.net/event/pilates-2-2/2030-10-09/
END:VEVENT
END:VCALENDAR