BEGIN:VCALENDAR
VERSION:2.0
PRODID:-//City of Key Colony Beach Official City Website - ECPv6.15.20//NONSGML v1.0//EN
CALSCALE:GREGORIAN
METHOD:PUBLISH
X-ORIGINAL-URL:https://keycolonybeach.net
X-WR-CALDESC:Events for City of Key Colony Beach Official City Website
REFRESH-INTERVAL;VALUE=DURATION:PT1H
X-Robots-Tag:noindex
X-PUBLISHED-TTL:PT1H
BEGIN:VTIMEZONE
TZID:America/New_York
BEGIN:DAYLIGHT
TZOFFSETFROM:-0500
TZOFFSETTO:-0400
TZNAME:EDT
DTSTART:20290311T070000
END:DAYLIGHT
BEGIN:STANDARD
TZOFFSETFROM:-0400
TZOFFSETTO:-0500
TZNAME:EST
DTSTART:20291104T060000
END:STANDARD
BEGIN:DAYLIGHT
TZOFFSETFROM:-0500
TZOFFSETTO:-0400
TZNAME:EDT
DTSTART:20300310T070000
END:DAYLIGHT
BEGIN:STANDARD
TZOFFSETFROM:-0400
TZOFFSETTO:-0500
TZNAME:EST
DTSTART:20301103T060000
END:STANDARD
BEGIN:DAYLIGHT
TZOFFSETFROM:-0500
TZOFFSETTO:-0400
TZNAME:EDT
DTSTART:20310309T070000
END:DAYLIGHT
BEGIN:STANDARD
TZOFFSETFROM:-0400
TZOFFSETTO:-0500
TZNAME:EST
DTSTART:20311102T060000
END:STANDARD
END:VTIMEZONE
BEGIN:VTIMEZONE
TZID:UTC
BEGIN:STANDARD
TZOFFSETFROM:+0000
TZOFFSETTO:+0000
TZNAME:UTC
DTSTART:20290101T000000
END:STANDARD
END:VTIMEZONE
BEGIN:VEVENT
DTSTART;TZID=America/New_York:20300927T080000
DTEND;TZID=America/New_York:20300927T090000
DTSTAMP:20260424T001841
CREATED:20260106T172903Z
LAST-MODIFIED:20260106T174734Z
UID:10008634-1916726400-1916730000@keycolonybeach.net
SUMMARY:Pilates @ 7th St Park near Bocce/Shuffleboard Ct.
DESCRIPTION:
URL:https://keycolonybeach.net/event/pilates-2-2/2030-09-27/
END:VEVENT
BEGIN:VEVENT
DTSTART;TZID=America/New_York:20300930T080000
DTEND;TZID=America/New_York:20300930T090000
DTSTAMP:20260424T001841
CREATED:20260106T172903Z
LAST-MODIFIED:20260106T174734Z
UID:10008635-1916985600-1916989200@keycolonybeach.net
SUMMARY:Pilates @ 7th St Park near Bocce/Shuffleboard Ct.
DESCRIPTION:
URL:https://keycolonybeach.net/event/pilates-2-2/2030-09-30/
END:VEVENT
BEGIN:VEVENT
DTSTART;TZID=America/New_York:20301001T103000
DTEND;TZID=America/New_York:20301001T113000
DTSTAMP:20260424T001841
CREATED:20251219T165940Z
LAST-MODIFIED:20251219T165940Z
UID:10007618-1917081000-1917084600@keycolonybeach.net
SUMMARY:Property Management Class
DESCRIPTION:
URL:https://keycolonybeach.net/event/property-management-class-7/2030-10-01/
END:VEVENT
BEGIN:VEVENT
DTSTART;VALUE=DATE:20301002
DTEND;VALUE=DATE:20301003
DTSTAMP:20260424T001841
CREATED:20231128T135911Z
LAST-MODIFIED:20231128T135911Z
UID:10005968-1917129600-1917215999@keycolonybeach.net
SUMMARY:Ron Sutton Day
DESCRIPTION:
URL:https://keycolonybeach.net/event/ron-sutton-day/2030-10-02/
END:VEVENT
BEGIN:VEVENT
DTSTART;TZID=America/New_York:20301002T080000
DTEND;TZID=America/New_York:20301002T090000
DTSTAMP:20260424T001841
CREATED:20260106T172903Z
LAST-MODIFIED:20260106T174734Z
UID:10008636-1917158400-1917162000@keycolonybeach.net
SUMMARY:Pilates @ 7th St Park near Bocce/Shuffleboard Ct.
DESCRIPTION:
URL:https://keycolonybeach.net/event/pilates-2-2/2030-10-02/
END:VEVENT
BEGIN:VEVENT
DTSTART;TZID=America/New_York:20301004T080000
DTEND;TZID=America/New_York:20301004T090000
DTSTAMP:20260424T001841
CREATED:20260106T172903Z
LAST-MODIFIED:20260106T174734Z
UID:10008637-1917331200-1917334800@keycolonybeach.net
SUMMARY:Pilates @ 7th St Park near Bocce/Shuffleboard Ct.
DESCRIPTION:
URL:https://keycolonybeach.net/event/pilates-2-2/2030-10-04/
END:VEVENT
BEGIN:VEVENT
DTSTART;TZID=America/New_York:20301004T180000
DTEND;TZID=America/New_York:20301004T210000
DTSTAMP:20260424T001841
CREATED:20251027T182914Z
LAST-MODIFIED:20251027T182914Z
UID:10006402-1917367200-1917378000@keycolonybeach.net
SUMMARY:Boating & Fishing Club Meeting 6pm
DESCRIPTION:
URL:https://keycolonybeach.net/event/boating-fishing-club-meeting-6pm/2030-10-04/
END:VEVENT
BEGIN:VEVENT
DTSTART;TZID=America/New_York:20301007T080000
DTEND;TZID=America/New_York:20301007T090000
DTSTAMP:20260424T001841
CREATED:20260106T172903Z
LAST-MODIFIED:20260106T174734Z
UID:10008638-1917590400-1917594000@keycolonybeach.net
SUMMARY:Pilates @ 7th St Park near Bocce/Shuffleboard Ct.
DESCRIPTION:
URL:https://keycolonybeach.net/event/pilates-2-2/2030-10-07/
END:VEVENT
BEGIN:VEVENT
DTSTART;TZID=America/New_York:20301008T100000
DTEND;TZID=America/New_York:20301008T120000
DTSTAMP:20260424T001841
CREATED:20260415T122359Z
LAST-MODIFIED:20260415T122400Z
UID:10008916-1917684000-1917691200@keycolonybeach.net
SUMMARY:Beautification Meeting Zoom only
DESCRIPTION:
URL:https://keycolonybeach.net/event/beautification-meeting-7/2030-10-08/
END:VEVENT
BEGIN:VEVENT
DTSTART;TZID=America/New_York:20301009T080000
DTEND;TZID=America/New_York:20301009T090000
DTSTAMP:20260424T001841
CREATED:20260106T172903Z
LAST-MODIFIED:20260106T174734Z
UID:10008639-1917763200-1917766800@keycolonybeach.net
SUMMARY:Pilates @ 7th St Park near Bocce/Shuffleboard Ct.
DESCRIPTION:
URL:https://keycolonybeach.net/event/pilates-2-2/2030-10-09/
END:VEVENT
BEGIN:VEVENT
DTSTART;VALUE=DATE:20301010
DTEND;VALUE=DATE:20301011
DTSTAMP:20260424T001841
CREATED:20200826T152953Z
LAST-MODIFIED:20201027T065049Z
UID:10005972-1917820800-1917907199@keycolonybeach.net
SUMMARY:Sergei Proudnik Day
DESCRIPTION:Reoccuring yearly every October 10th\nAll Day Event
URL:https://keycolonybeach.net/event/sergei-proudnik-day/2030-10-10/
LOCATION:Marble Hall\, Marble Hall\, United States
ATTACH;FMTTYPE=image/jpeg:https://keycolonybeach.net/wp-content/uploads/2020/08/Key-Colony-Beach.jpg
END:VEVENT
BEGIN:VEVENT
DTSTART;TZID=America/New_York:20301010T100000
DTEND;TZID=America/New_York:20301010T120000
DTSTAMP:20260424T001841
CREATED:20260409T173003Z
LAST-MODIFIED:20260409T173004Z
UID:10008857-1917856800-1917864000@keycolonybeach.net
SUMMARY:Recreation Committee Meeting 10:00 AM Zoom only
DESCRIPTION:
URL:https://keycolonybeach.net/event/recreation-meeting-330-pm-3/2030-10-10/
END:VEVENT
BEGIN:VEVENT
DTSTART;TZID=America/New_York:20301010T150000
DTEND;TZID=America/New_York:20301010T170000
DTSTAMP:20260424T001841
CREATED:20251017T145821Z
LAST-MODIFIED:20260126T150149Z
UID:10006070-1917874800-1917882000@keycolonybeach.net
SUMMARY:Book Club 3pm
DESCRIPTION:
URL:https://keycolonybeach.net/event/book-club-2/2030-10-10/
END:VEVENT
BEGIN:VEVENT
DTSTART;TZID=America/New_York:20301011T080000
DTEND;TZID=America/New_York:20301011T090000
DTSTAMP:20260424T001841
CREATED:20260106T172903Z
LAST-MODIFIED:20260106T174734Z
UID:10008640-1917936000-1917939600@keycolonybeach.net
SUMMARY:Pilates @ 7th St Park near Bocce/Shuffleboard Ct.
DESCRIPTION:
URL:https://keycolonybeach.net/event/pilates-2-2/2030-10-11/
END:VEVENT
BEGIN:VEVENT
DTSTART;TZID=America/New_York:20301014T080000
DTEND;TZID=America/New_York:20301014T090000
DTSTAMP:20260424T001841
CREATED:20260106T172903Z
LAST-MODIFIED:20260106T174734Z
UID:10008641-1918195200-1918198800@keycolonybeach.net
SUMMARY:Pilates @ 7th St Park near Bocce/Shuffleboard Ct.
DESCRIPTION:
URL:https://keycolonybeach.net/event/pilates-2-2/2030-10-14/
END:VEVENT
BEGIN:VEVENT
DTSTART;TZID=America/New_York:20301015T153000
DTEND;TZID=America/New_York:20301015T173000
DTSTAMP:20260424T001841
CREATED:20251219T185950Z
LAST-MODIFIED:20251219T185950Z
UID:10007760-1918308600-1918315800@keycolonybeach.net
SUMMARY:Utility Board Meeting
DESCRIPTION:
URL:https://keycolonybeach.net/event/utility-board-meeting-3/2030-10-15/
END:VEVENT
BEGIN:VEVENT
DTSTART;TZID=America/New_York:20301016T080000
DTEND;TZID=America/New_York:20301016T090000
DTSTAMP:20260424T001841
CREATED:20260106T172903Z
LAST-MODIFIED:20260106T174734Z
UID:10008642-1918368000-1918371600@keycolonybeach.net
SUMMARY:Pilates @ 7th St Park near Bocce/Shuffleboard Ct.
DESCRIPTION:
URL:https://keycolonybeach.net/event/pilates-2-2/2030-10-16/
END:VEVENT
BEGIN:VEVENT
DTSTART;TZID=America/New_York:20301016T153000
DTEND;TZID=America/New_York:20301016T173000
DTSTAMP:20260424T001841
CREATED:20241211T133223Z
LAST-MODIFIED:20251219T190512Z
UID:10007828-1918395000-1918402200@keycolonybeach.net
SUMMARY:Planning & Zoning Meeting
DESCRIPTION:
URL:https://keycolonybeach.net/event/planning-zoning-meeting-5/2030-10-16/
END:VEVENT
BEGIN:VEVENT
DTSTART;TZID=America/New_York:20301017T153000
DTEND;TZID=America/New_York:20301017T173000
DTSTAMP:20260424T001841
CREATED:20260421T164137Z
LAST-MODIFIED:20260421T164137Z
UID:10009024-1918481400-1918488600@keycolonybeach.net
SUMMARY:City Commission Regular Meeting & Public Hearing
DESCRIPTION:
URL:https://keycolonybeach.net/event/city-commission-regular-meeting-public-hearing-5-2/2030-10-17/
LOCATION:Marble Hall\, 600 W Ocean Drive\, Key Colony Beach\, FL\, 33051
END:VEVENT
BEGIN:VEVENT
DTSTART;TZID=America/New_York:20301018T080000
DTEND;TZID=America/New_York:20301018T090000
DTSTAMP:20260424T001841
CREATED:20260106T172903Z
LAST-MODIFIED:20260106T174734Z
UID:10008643-1918540800-1918544400@keycolonybeach.net
SUMMARY:Pilates @ 7th St Park near Bocce/Shuffleboard Ct.
DESCRIPTION:
URL:https://keycolonybeach.net/event/pilates-2-2/2030-10-18/
END:VEVENT
BEGIN:VEVENT
DTSTART;TZID=America/New_York:20301021T080000
DTEND;TZID=America/New_York:20301021T090000
DTSTAMP:20260424T001841
CREATED:20260106T172903Z
LAST-MODIFIED:20260106T174734Z
UID:10008644-1918800000-1918803600@keycolonybeach.net
SUMMARY:Pilates @ 7th St Park near Bocce/Shuffleboard Ct.
DESCRIPTION:
URL:https://keycolonybeach.net/event/pilates-2-2/2030-10-21/
END:VEVENT
BEGIN:VEVENT
DTSTART;TZID=America/New_York:20301023T080000
DTEND;TZID=America/New_York:20301023T090000
DTSTAMP:20260424T001841
CREATED:20260106T172903Z
LAST-MODIFIED:20260106T174734Z
UID:10008645-1918972800-1918976400@keycolonybeach.net
SUMMARY:Pilates @ 7th St Park near Bocce/Shuffleboard Ct.
DESCRIPTION:
URL:https://keycolonybeach.net/event/pilates-2-2/2030-10-23/
END:VEVENT
BEGIN:VEVENT
DTSTART;TZID=America/New_York:20301025T080000
DTEND;TZID=America/New_York:20301025T090000
DTSTAMP:20260424T001841
CREATED:20260106T172903Z
LAST-MODIFIED:20260106T174734Z
UID:10008646-1919145600-1919149200@keycolonybeach.net
SUMMARY:Pilates @ 7th St Park near Bocce/Shuffleboard Ct.
DESCRIPTION:
URL:https://keycolonybeach.net/event/pilates-2-2/2030-10-25/
END:VEVENT
BEGIN:VEVENT
DTSTART;TZID=America/New_York:20301028T080000
DTEND;TZID=America/New_York:20301028T090000
DTSTAMP:20260424T001841
CREATED:20260106T172903Z
LAST-MODIFIED:20260106T174734Z
UID:10008647-1919404800-1919408400@keycolonybeach.net
SUMMARY:Pilates @ 7th St Park near Bocce/Shuffleboard Ct.
DESCRIPTION:
URL:https://keycolonybeach.net/event/pilates-2-2/2030-10-28/
END:VEVENT
BEGIN:VEVENT
DTSTART;TZID=America/New_York:20301030T080000
DTEND;TZID=America/New_York:20301030T090000
DTSTAMP:20260424T001841
CREATED:20260106T172903Z
LAST-MODIFIED:20260106T174734Z
UID:10008648-1919577600-1919581200@keycolonybeach.net
SUMMARY:Pilates @ 7th St Park near Bocce/Shuffleboard Ct.
DESCRIPTION:
URL:https://keycolonybeach.net/event/pilates-2-2/2030-10-30/
END:VEVENT
BEGIN:VEVENT
DTSTART;TZID=America/New_York:20301101T080000
DTEND;TZID=America/New_York:20301101T090000
DTSTAMP:20260424T001841
CREATED:20260106T172903Z
LAST-MODIFIED:20260106T174734Z
UID:10008649-1919750400-1919754000@keycolonybeach.net
SUMMARY:Pilates @ 7th St Park near Bocce/Shuffleboard Ct.
DESCRIPTION:
URL:https://keycolonybeach.net/event/pilates-2-2/2030-11-01/
END:VEVENT
BEGIN:VEVENT
DTSTART;TZID=America/New_York:20301104T080000
DTEND;TZID=America/New_York:20301104T090000
DTSTAMP:20260424T001841
CREATED:20260106T172903Z
LAST-MODIFIED:20260106T174734Z
UID:10008650-1920009600-1920013200@keycolonybeach.net
SUMMARY:Pilates @ 7th St Park near Bocce/Shuffleboard Ct.
DESCRIPTION:
URL:https://keycolonybeach.net/event/pilates-2-2/2030-11-04/
END:VEVENT
BEGIN:VEVENT
DTSTART;TZID=America/New_York:20301105T103000
DTEND;TZID=America/New_York:20301105T113000
DTSTAMP:20260424T001841
CREATED:20251219T165940Z
LAST-MODIFIED:20251219T165940Z
UID:10007619-1920105000-1920108600@keycolonybeach.net
SUMMARY:Property Management Class
DESCRIPTION:
URL:https://keycolonybeach.net/event/property-management-class-7/2030-11-05/
END:VEVENT
BEGIN:VEVENT
DTSTART;TZID=America/New_York:20301106T080000
DTEND;TZID=America/New_York:20301106T090000
DTSTAMP:20260424T001841
CREATED:20260106T172903Z
LAST-MODIFIED:20260106T174734Z
UID:10008651-1920182400-1920186000@keycolonybeach.net
SUMMARY:Pilates @ 7th St Park near Bocce/Shuffleboard Ct.
DESCRIPTION:
URL:https://keycolonybeach.net/event/pilates-2-2/2030-11-06/
END:VEVENT
BEGIN:VEVENT
DTSTART;TZID=America/New_York:20301108T080000
DTEND;TZID=America/New_York:20301108T090000
DTSTAMP:20260424T001841
CREATED:20260106T172903Z
LAST-MODIFIED:20260106T174734Z
UID:10008652-1920355200-1920358800@keycolonybeach.net
SUMMARY:Pilates @ 7th St Park near Bocce/Shuffleboard Ct.
DESCRIPTION:
URL:https://keycolonybeach.net/event/pilates-2-2/2030-11-08/
END:VEVENT
END:VCALENDAR