BEGIN:VCALENDAR
VERSION:2.0
PRODID:-//City of Key Colony Beach Official City Website - ECPv6.15.20//NONSGML v1.0//EN
CALSCALE:GREGORIAN
METHOD:PUBLISH
X-ORIGINAL-URL:https://keycolonybeach.net
X-WR-CALDESC:Events for City of Key Colony Beach Official City Website
REFRESH-INTERVAL;VALUE=DURATION:PT1H
X-Robots-Tag:noindex
X-PUBLISHED-TTL:PT1H
BEGIN:VTIMEZONE
TZID:America/New_York
BEGIN:DAYLIGHT
TZOFFSETFROM:-0500
TZOFFSETTO:-0400
TZNAME:EDT
DTSTART:20290311T070000
END:DAYLIGHT
BEGIN:STANDARD
TZOFFSETFROM:-0400
TZOFFSETTO:-0500
TZNAME:EST
DTSTART:20291104T060000
END:STANDARD
BEGIN:DAYLIGHT
TZOFFSETFROM:-0500
TZOFFSETTO:-0400
TZNAME:EDT
DTSTART:20300310T070000
END:DAYLIGHT
BEGIN:STANDARD
TZOFFSETFROM:-0400
TZOFFSETTO:-0500
TZNAME:EST
DTSTART:20301103T060000
END:STANDARD
BEGIN:DAYLIGHT
TZOFFSETFROM:-0500
TZOFFSETTO:-0400
TZNAME:EDT
DTSTART:20310309T070000
END:DAYLIGHT
BEGIN:STANDARD
TZOFFSETFROM:-0400
TZOFFSETTO:-0500
TZNAME:EST
DTSTART:20311102T060000
END:STANDARD
END:VTIMEZONE
BEGIN:VEVENT
DTSTART;TZID=America/New_York:20301111T080000
DTEND;TZID=America/New_York:20301111T090000
DTSTAMP:20260424T044611
CREATED:20260106T172903Z
LAST-MODIFIED:20260106T174734Z
UID:10008653-1920614400-1920618000@keycolonybeach.net
SUMMARY:Pilates @ 7th St Park near Bocce/Shuffleboard Ct.
DESCRIPTION:
URL:https://keycolonybeach.net/event/pilates-2-2/2030-11-11/
END:VEVENT
BEGIN:VEVENT
DTSTART;TZID=America/New_York:20301112T100000
DTEND;TZID=America/New_York:20301112T120000
DTSTAMP:20260424T044611
CREATED:20260415T122359Z
LAST-MODIFIED:20260415T122400Z
UID:10008917-1920708000-1920715200@keycolonybeach.net
SUMMARY:Beautification Meeting Zoom only
DESCRIPTION:
URL:https://keycolonybeach.net/event/beautification-meeting-7/2030-11-12/
END:VEVENT
BEGIN:VEVENT
DTSTART;TZID=America/New_York:20301113T080000
DTEND;TZID=America/New_York:20301113T090000
DTSTAMP:20260424T044611
CREATED:20260106T172903Z
LAST-MODIFIED:20260106T174734Z
UID:10008654-1920787200-1920790800@keycolonybeach.net
SUMMARY:Pilates @ 7th St Park near Bocce/Shuffleboard Ct.
DESCRIPTION:
URL:https://keycolonybeach.net/event/pilates-2-2/2030-11-13/
END:VEVENT
BEGIN:VEVENT
DTSTART;TZID=America/New_York:20301114T100000
DTEND;TZID=America/New_York:20301114T120000
DTSTAMP:20260424T044611
CREATED:20260409T173003Z
LAST-MODIFIED:20260409T173004Z
UID:10008858-1920880800-1920888000@keycolonybeach.net
SUMMARY:Recreation Committee Meeting 10:00 AM Zoom only
DESCRIPTION:
URL:https://keycolonybeach.net/event/recreation-meeting-330-pm-3/2030-11-14/
END:VEVENT
BEGIN:VEVENT
DTSTART;TZID=America/New_York:20301114T150000
DTEND;TZID=America/New_York:20301114T170000
DTSTAMP:20260424T044611
CREATED:20251017T145821Z
LAST-MODIFIED:20260126T150149Z
UID:10008701-1920898800-1920906000@keycolonybeach.net
SUMMARY:Book Club 3pm
DESCRIPTION:
URL:https://keycolonybeach.net/event/book-club-2/2030-11-14/
END:VEVENT
BEGIN:VEVENT
DTSTART;TZID=America/New_York:20301115T080000
DTEND;TZID=America/New_York:20301115T090000
DTSTAMP:20260424T044611
CREATED:20260106T172903Z
LAST-MODIFIED:20260106T174734Z
UID:10008655-1920960000-1920963600@keycolonybeach.net
SUMMARY:Pilates @ 7th St Park near Bocce/Shuffleboard Ct.
DESCRIPTION:
URL:https://keycolonybeach.net/event/pilates-2-2/2030-11-15/
END:VEVENT
BEGIN:VEVENT
DTSTART;TZID=America/New_York:20301118T080000
DTEND;TZID=America/New_York:20301118T090000
DTSTAMP:20260424T044611
CREATED:20260106T172903Z
LAST-MODIFIED:20260106T174734Z
UID:10008656-1921219200-1921222800@keycolonybeach.net
SUMMARY:Pilates @ 7th St Park near Bocce/Shuffleboard Ct.
DESCRIPTION:
URL:https://keycolonybeach.net/event/pilates-2-2/2030-11-18/
END:VEVENT
BEGIN:VEVENT
DTSTART;TZID=America/New_York:20301119T153000
DTEND;TZID=America/New_York:20301119T173000
DTSTAMP:20260424T044611
CREATED:20251219T185950Z
LAST-MODIFIED:20251219T185950Z
UID:10007761-1921332600-1921339800@keycolonybeach.net
SUMMARY:Utility Board Meeting
DESCRIPTION:
URL:https://keycolonybeach.net/event/utility-board-meeting-3/2030-11-19/
END:VEVENT
BEGIN:VEVENT
DTSTART;TZID=America/New_York:20301120T080000
DTEND;TZID=America/New_York:20301120T090000
DTSTAMP:20260424T044611
CREATED:20260106T172903Z
LAST-MODIFIED:20260106T174734Z
UID:10008657-1921392000-1921395600@keycolonybeach.net
SUMMARY:Pilates @ 7th St Park near Bocce/Shuffleboard Ct.
DESCRIPTION:
URL:https://keycolonybeach.net/event/pilates-2-2/2030-11-20/
END:VEVENT
BEGIN:VEVENT
DTSTART;TZID=America/New_York:20301120T153000
DTEND;TZID=America/New_York:20301120T173000
DTSTAMP:20260424T044611
CREATED:20241211T133223Z
LAST-MODIFIED:20251219T190512Z
UID:10007829-1921419000-1921426200@keycolonybeach.net
SUMMARY:Planning & Zoning Meeting
DESCRIPTION:
URL:https://keycolonybeach.net/event/planning-zoning-meeting-5/2030-11-20/
END:VEVENT
BEGIN:VEVENT
DTSTART;TZID=America/New_York:20301121T153000
DTEND;TZID=America/New_York:20301121T173000
DTSTAMP:20260424T044611
CREATED:20260421T164137Z
LAST-MODIFIED:20260421T164137Z
UID:10009025-1921505400-1921512600@keycolonybeach.net
SUMMARY:City Commission Regular Meeting & Public Hearing
DESCRIPTION:
URL:https://keycolonybeach.net/event/city-commission-regular-meeting-public-hearing-5-2/2030-11-21/
LOCATION:Marble Hall\, 600 W Ocean Drive\, Key Colony Beach\, FL\, 33051
END:VEVENT
BEGIN:VEVENT
DTSTART;TZID=America/New_York:20301122T080000
DTEND;TZID=America/New_York:20301122T090000
DTSTAMP:20260424T044611
CREATED:20260106T172903Z
LAST-MODIFIED:20260106T174734Z
UID:10008658-1921564800-1921568400@keycolonybeach.net
SUMMARY:Pilates @ 7th St Park near Bocce/Shuffleboard Ct.
DESCRIPTION:
URL:https://keycolonybeach.net/event/pilates-2-2/2030-11-22/
END:VEVENT
BEGIN:VEVENT
DTSTART;TZID=America/New_York:20301125T080000
DTEND;TZID=America/New_York:20301125T090000
DTSTAMP:20260424T044611
CREATED:20260106T172903Z
LAST-MODIFIED:20260106T174734Z
UID:10008659-1921824000-1921827600@keycolonybeach.net
SUMMARY:Pilates @ 7th St Park near Bocce/Shuffleboard Ct.
DESCRIPTION:
URL:https://keycolonybeach.net/event/pilates-2-2/2030-11-25/
END:VEVENT
BEGIN:VEVENT
DTSTART;TZID=America/New_York:20301127T080000
DTEND;TZID=America/New_York:20301127T090000
DTSTAMP:20260424T044611
CREATED:20260106T172903Z
LAST-MODIFIED:20260106T174734Z
UID:10008660-1921996800-1922000400@keycolonybeach.net
SUMMARY:Pilates @ 7th St Park near Bocce/Shuffleboard Ct.
DESCRIPTION:
URL:https://keycolonybeach.net/event/pilates-2-2/2030-11-27/
END:VEVENT
BEGIN:VEVENT
DTSTART;TZID=America/New_York:20301129T080000
DTEND;TZID=America/New_York:20301129T090000
DTSTAMP:20260424T044611
CREATED:20260106T172903Z
LAST-MODIFIED:20260106T174734Z
UID:10008661-1922169600-1922173200@keycolonybeach.net
SUMMARY:Pilates @ 7th St Park near Bocce/Shuffleboard Ct.
DESCRIPTION:
URL:https://keycolonybeach.net/event/pilates-2-2/2030-11-29/
END:VEVENT
BEGIN:VEVENT
DTSTART;TZID=America/New_York:20301202T080000
DTEND;TZID=America/New_York:20301202T090000
DTSTAMP:20260424T044611
CREATED:20260106T172903Z
LAST-MODIFIED:20260106T174734Z
UID:10008662-1922428800-1922432400@keycolonybeach.net
SUMMARY:Pilates @ 7th St Park near Bocce/Shuffleboard Ct.
DESCRIPTION:
URL:https://keycolonybeach.net/event/pilates-2-2/2030-12-02/
END:VEVENT
BEGIN:VEVENT
DTSTART;TZID=America/New_York:20301203T103000
DTEND;TZID=America/New_York:20301203T113000
DTSTAMP:20260424T044611
CREATED:20251219T165940Z
LAST-MODIFIED:20251219T165940Z
UID:10007620-1922524200-1922527800@keycolonybeach.net
SUMMARY:Property Management Class
DESCRIPTION:
URL:https://keycolonybeach.net/event/property-management-class-7/2030-12-03/
END:VEVENT
BEGIN:VEVENT
DTSTART;TZID=America/New_York:20301204T080000
DTEND;TZID=America/New_York:20301204T090000
DTSTAMP:20260424T044611
CREATED:20260106T172903Z
LAST-MODIFIED:20260106T174734Z
UID:10008663-1922601600-1922605200@keycolonybeach.net
SUMMARY:Pilates @ 7th St Park near Bocce/Shuffleboard Ct.
DESCRIPTION:
URL:https://keycolonybeach.net/event/pilates-2-2/2030-12-04/
END:VEVENT
BEGIN:VEVENT
DTSTART;TZID=America/New_York:20301206T080000
DTEND;TZID=America/New_York:20301206T090000
DTSTAMP:20260424T044611
CREATED:20260106T172903Z
LAST-MODIFIED:20260106T174734Z
UID:10008664-1922774400-1922778000@keycolonybeach.net
SUMMARY:Pilates @ 7th St Park near Bocce/Shuffleboard Ct.
DESCRIPTION:
URL:https://keycolonybeach.net/event/pilates-2-2/2030-12-06/
END:VEVENT
BEGIN:VEVENT
DTSTART;TZID=America/New_York:20301209T080000
DTEND;TZID=America/New_York:20301209T090000
DTSTAMP:20260424T044611
CREATED:20260106T172903Z
LAST-MODIFIED:20260106T174734Z
UID:10008665-1923033600-1923037200@keycolonybeach.net
SUMMARY:Pilates @ 7th St Park near Bocce/Shuffleboard Ct.
DESCRIPTION:
URL:https://keycolonybeach.net/event/pilates-2-2/2030-12-09/
END:VEVENT
BEGIN:VEVENT
DTSTART;TZID=America/New_York:20301210T100000
DTEND;TZID=America/New_York:20301210T120000
DTSTAMP:20260424T044611
CREATED:20260415T122359Z
LAST-MODIFIED:20260415T122400Z
UID:10008918-1923127200-1923134400@keycolonybeach.net
SUMMARY:Beautification Meeting Zoom only
DESCRIPTION:
URL:https://keycolonybeach.net/event/beautification-meeting-7/2030-12-10/
END:VEVENT
BEGIN:VEVENT
DTSTART;TZID=America/New_York:20301211T080000
DTEND;TZID=America/New_York:20301211T090000
DTSTAMP:20260424T044611
CREATED:20260106T172903Z
LAST-MODIFIED:20260106T174734Z
UID:10008666-1923206400-1923210000@keycolonybeach.net
SUMMARY:Pilates @ 7th St Park near Bocce/Shuffleboard Ct.
DESCRIPTION:
URL:https://keycolonybeach.net/event/pilates-2-2/2030-12-11/
END:VEVENT
BEGIN:VEVENT
DTSTART;TZID=America/New_York:20301212T100000
DTEND;TZID=America/New_York:20301212T120000
DTSTAMP:20260424T044611
CREATED:20260409T173003Z
LAST-MODIFIED:20260409T173004Z
UID:10008859-1923300000-1923307200@keycolonybeach.net
SUMMARY:Recreation Committee Meeting 10:00 AM Zoom only
DESCRIPTION:
URL:https://keycolonybeach.net/event/recreation-meeting-330-pm-3/2030-12-12/
END:VEVENT
BEGIN:VEVENT
DTSTART;TZID=America/New_York:20301212T150000
DTEND;TZID=America/New_York:20301212T170000
DTSTAMP:20260424T044611
CREATED:20251017T145821Z
LAST-MODIFIED:20260126T150149Z
UID:10008702-1923318000-1923325200@keycolonybeach.net
SUMMARY:Book Club 3pm
DESCRIPTION:
URL:https://keycolonybeach.net/event/book-club-2/2030-12-12/
END:VEVENT
BEGIN:VEVENT
DTSTART;TZID=America/New_York:20301213T080000
DTEND;TZID=America/New_York:20301213T090000
DTSTAMP:20260424T044611
CREATED:20260106T172903Z
LAST-MODIFIED:20260106T174734Z
UID:10008667-1923379200-1923382800@keycolonybeach.net
SUMMARY:Pilates @ 7th St Park near Bocce/Shuffleboard Ct.
DESCRIPTION:
URL:https://keycolonybeach.net/event/pilates-2-2/2030-12-13/
END:VEVENT
BEGIN:VEVENT
DTSTART;TZID=America/New_York:20301216T080000
DTEND;TZID=America/New_York:20301216T090000
DTSTAMP:20260424T044611
CREATED:20260106T172903Z
LAST-MODIFIED:20260106T174734Z
UID:10008668-1923638400-1923642000@keycolonybeach.net
SUMMARY:Pilates @ 7th St Park near Bocce/Shuffleboard Ct.
DESCRIPTION:
URL:https://keycolonybeach.net/event/pilates-2-2/2030-12-16/
END:VEVENT
BEGIN:VEVENT
DTSTART;TZID=America/New_York:20301217T153000
DTEND;TZID=America/New_York:20301217T173000
DTSTAMP:20260424T044611
CREATED:20251219T185950Z
LAST-MODIFIED:20251219T185950Z
UID:10007762-1923751800-1923759000@keycolonybeach.net
SUMMARY:Utility Board Meeting
DESCRIPTION:
URL:https://keycolonybeach.net/event/utility-board-meeting-3/2030-12-17/
END:VEVENT
BEGIN:VEVENT
DTSTART;TZID=America/New_York:20301218T080000
DTEND;TZID=America/New_York:20301218T090000
DTSTAMP:20260424T044611
CREATED:20260106T172903Z
LAST-MODIFIED:20260106T174734Z
UID:10008669-1923811200-1923814800@keycolonybeach.net
SUMMARY:Pilates @ 7th St Park near Bocce/Shuffleboard Ct.
DESCRIPTION:
URL:https://keycolonybeach.net/event/pilates-2-2/2030-12-18/
END:VEVENT
BEGIN:VEVENT
DTSTART;TZID=America/New_York:20301218T153000
DTEND;TZID=America/New_York:20301218T173000
DTSTAMP:20260424T044612
CREATED:20241211T133223Z
LAST-MODIFIED:20251219T190512Z
UID:10007830-1923838200-1923845400@keycolonybeach.net
SUMMARY:Planning & Zoning Meeting
DESCRIPTION:
URL:https://keycolonybeach.net/event/planning-zoning-meeting-5/2030-12-18/
END:VEVENT
BEGIN:VEVENT
DTSTART;TZID=America/New_York:20301219T153000
DTEND;TZID=America/New_York:20301219T173000
DTSTAMP:20260424T044612
CREATED:20260421T164137Z
LAST-MODIFIED:20260421T164137Z
UID:10009026-1923924600-1923931800@keycolonybeach.net
SUMMARY:City Commission Regular Meeting & Public Hearing
DESCRIPTION:
URL:https://keycolonybeach.net/event/city-commission-regular-meeting-public-hearing-5-2/2030-12-19/
LOCATION:Marble Hall\, 600 W Ocean Drive\, Key Colony Beach\, FL\, 33051
END:VEVENT
END:VCALENDAR