BEGIN:VCALENDAR
VERSION:2.0
PRODID:-//City of Key Colony Beach Official City Website - ECPv6.15.20//NONSGML v1.0//EN
CALSCALE:GREGORIAN
METHOD:PUBLISH
X-ORIGINAL-URL:https://keycolonybeach.net
X-WR-CALDESC:Events for City of Key Colony Beach Official City Website
REFRESH-INTERVAL;VALUE=DURATION:PT1H
X-Robots-Tag:noindex
X-PUBLISHED-TTL:PT1H
BEGIN:VTIMEZONE
TZID:America/New_York
BEGIN:DAYLIGHT
TZOFFSETFROM:-0500
TZOFFSETTO:-0400
TZNAME:EDT
DTSTART:20280312T070000
END:DAYLIGHT
BEGIN:STANDARD
TZOFFSETFROM:-0400
TZOFFSETTO:-0500
TZNAME:EST
DTSTART:20281105T060000
END:STANDARD
BEGIN:DAYLIGHT
TZOFFSETFROM:-0500
TZOFFSETTO:-0400
TZNAME:EDT
DTSTART:20290311T070000
END:DAYLIGHT
BEGIN:STANDARD
TZOFFSETFROM:-0400
TZOFFSETTO:-0500
TZNAME:EST
DTSTART:20291104T060000
END:STANDARD
BEGIN:DAYLIGHT
TZOFFSETFROM:-0500
TZOFFSETTO:-0400
TZNAME:EDT
DTSTART:20300310T070000
END:DAYLIGHT
BEGIN:STANDARD
TZOFFSETFROM:-0400
TZOFFSETTO:-0500
TZNAME:EST
DTSTART:20301103T060000
END:STANDARD
END:VTIMEZONE
BEGIN:VEVENT
DTSTART;TZID=America/New_York:20290126T080000
DTEND;TZID=America/New_York:20290126T090000
DTSTAMP:20260425T195140
CREATED:20260106T172903Z
LAST-MODIFIED:20260106T174734Z
UID:10008373-1864108800-1864112400@keycolonybeach.net
SUMMARY:Pilates @ 7th St Park near Bocce/Shuffleboard Ct.
DESCRIPTION:
URL:https://keycolonybeach.net/event/pilates-2-2/2029-01-26/
END:VEVENT
BEGIN:VEVENT
DTSTART;TZID=America/New_York:20290129T080000
DTEND;TZID=America/New_York:20290129T090000
DTSTAMP:20260425T195140
CREATED:20260106T172903Z
LAST-MODIFIED:20260106T174734Z
UID:10008374-1864368000-1864371600@keycolonybeach.net
SUMMARY:Pilates @ 7th St Park near Bocce/Shuffleboard Ct.
DESCRIPTION:
URL:https://keycolonybeach.net/event/pilates-2-2/2029-01-29/
END:VEVENT
BEGIN:VEVENT
DTSTART;TZID=America/New_York:20290131T080000
DTEND;TZID=America/New_York:20290131T090000
DTSTAMP:20260425T195140
CREATED:20260106T172903Z
LAST-MODIFIED:20260106T174734Z
UID:10008375-1864540800-1864544400@keycolonybeach.net
SUMMARY:Pilates @ 7th St Park near Bocce/Shuffleboard Ct.
DESCRIPTION:
URL:https://keycolonybeach.net/event/pilates-2-2/2029-01-31/
END:VEVENT
BEGIN:VEVENT
DTSTART;TZID=America/New_York:20290202T080000
DTEND;TZID=America/New_York:20290202T090000
DTSTAMP:20260425T195140
CREATED:20260106T172903Z
LAST-MODIFIED:20260106T174734Z
UID:10008376-1864713600-1864717200@keycolonybeach.net
SUMMARY:Pilates @ 7th St Park near Bocce/Shuffleboard Ct.
DESCRIPTION:
URL:https://keycolonybeach.net/event/pilates-2-2/2029-02-02/
END:VEVENT
BEGIN:VEVENT
DTSTART;TZID=America/New_York:20290202T180000
DTEND;TZID=America/New_York:20290202T210000
DTSTAMP:20260425T195140
CREATED:20251027T182914Z
LAST-MODIFIED:20251027T182914Z
UID:10006382-1864749600-1864760400@keycolonybeach.net
SUMMARY:Boating & Fishing Club Meeting 6pm
DESCRIPTION:
URL:https://keycolonybeach.net/event/boating-fishing-club-meeting-6pm/2029-02-02/
END:VEVENT
BEGIN:VEVENT
DTSTART;TZID=America/New_York:20290205T080000
DTEND;TZID=America/New_York:20290205T090000
DTSTAMP:20260425T195140
CREATED:20260106T172903Z
LAST-MODIFIED:20260106T174734Z
UID:10008377-1864972800-1864976400@keycolonybeach.net
SUMMARY:Pilates @ 7th St Park near Bocce/Shuffleboard Ct.
DESCRIPTION:
URL:https://keycolonybeach.net/event/pilates-2-2/2029-02-05/
END:VEVENT
BEGIN:VEVENT
DTSTART;TZID=America/New_York:20290206T103000
DTEND;TZID=America/New_York:20290206T113000
DTSTAMP:20260425T195140
CREATED:20251219T165940Z
LAST-MODIFIED:20251219T165940Z
UID:10007598-1865068200-1865071800@keycolonybeach.net
SUMMARY:Property Management Class
DESCRIPTION:
URL:https://keycolonybeach.net/event/property-management-class-7/2029-02-06/
END:VEVENT
BEGIN:VEVENT
DTSTART;TZID=America/New_York:20290207T080000
DTEND;TZID=America/New_York:20290207T090000
DTSTAMP:20260425T195140
CREATED:20260106T172903Z
LAST-MODIFIED:20260106T174734Z
UID:10008378-1865145600-1865149200@keycolonybeach.net
SUMMARY:Pilates @ 7th St Park near Bocce/Shuffleboard Ct.
DESCRIPTION:
URL:https://keycolonybeach.net/event/pilates-2-2/2029-02-07/
END:VEVENT
BEGIN:VEVENT
DTSTART;TZID=America/New_York:20290208T100000
DTEND;TZID=America/New_York:20290208T120000
DTSTAMP:20260425T195140
CREATED:20260409T173003Z
LAST-MODIFIED:20260409T173004Z
UID:10008837-1865239200-1865246400@keycolonybeach.net
SUMMARY:Recreation Committee Meeting 10:00 AM Zoom only
DESCRIPTION:
URL:https://keycolonybeach.net/event/recreation-meeting-330-pm-3/2029-02-08/
END:VEVENT
BEGIN:VEVENT
DTSTART;TZID=America/New_York:20290208T150000
DTEND;TZID=America/New_York:20290208T170000
DTSTAMP:20260425T195140
CREATED:20251017T145821Z
LAST-MODIFIED:20260126T150149Z
UID:10005168-1865257200-1865264400@keycolonybeach.net
SUMMARY:Book Club 3pm
DESCRIPTION:
URL:https://keycolonybeach.net/event/book-club-2/2029-02-08/
END:VEVENT
BEGIN:VEVENT
DTSTART;TZID=America/New_York:20290209T080000
DTEND;TZID=America/New_York:20290209T090000
DTSTAMP:20260425T195140
CREATED:20260106T172903Z
LAST-MODIFIED:20260106T174734Z
UID:10008379-1865318400-1865322000@keycolonybeach.net
SUMMARY:Pilates @ 7th St Park near Bocce/Shuffleboard Ct.
DESCRIPTION:
URL:https://keycolonybeach.net/event/pilates-2-2/2029-02-09/
END:VEVENT
BEGIN:VEVENT
DTSTART;TZID=America/New_York:20290212T080000
DTEND;TZID=America/New_York:20290212T090000
DTSTAMP:20260425T195140
CREATED:20260106T172903Z
LAST-MODIFIED:20260106T174734Z
UID:10008380-1865577600-1865581200@keycolonybeach.net
SUMMARY:Pilates @ 7th St Park near Bocce/Shuffleboard Ct.
DESCRIPTION:
URL:https://keycolonybeach.net/event/pilates-2-2/2029-02-12/
END:VEVENT
BEGIN:VEVENT
DTSTART;TZID=America/New_York:20290213T100000
DTEND;TZID=America/New_York:20290213T120000
DTSTAMP:20260425T195140
CREATED:20260415T122359Z
LAST-MODIFIED:20260415T122400Z
UID:10008896-1865671200-1865678400@keycolonybeach.net
SUMMARY:Beautification Meeting Zoom only
DESCRIPTION:
URL:https://keycolonybeach.net/event/beautification-meeting-7/2029-02-13/
END:VEVENT
BEGIN:VEVENT
DTSTART;TZID=America/New_York:20290214T080000
DTEND;TZID=America/New_York:20290214T090000
DTSTAMP:20260425T195140
CREATED:20260106T172903Z
LAST-MODIFIED:20260106T174734Z
UID:10008381-1865750400-1865754000@keycolonybeach.net
SUMMARY:Pilates @ 7th St Park near Bocce/Shuffleboard Ct.
DESCRIPTION:
URL:https://keycolonybeach.net/event/pilates-2-2/2029-02-14/
END:VEVENT
BEGIN:VEVENT
DTSTART;TZID=America/New_York:20290215T153000
DTEND;TZID=America/New_York:20290215T173000
DTSTAMP:20260425T195140
CREATED:20260421T164137Z
LAST-MODIFIED:20260421T164137Z
UID:10009004-1865863800-1865871000@keycolonybeach.net
SUMMARY:City Commission Regular Meeting & Public Hearing
DESCRIPTION:
URL:https://keycolonybeach.net/event/city-commission-regular-meeting-public-hearing-5-2/2029-02-15/
LOCATION:Marble Hall\, 600 W Ocean Drive\, Key Colony Beach\, FL\, 33051
END:VEVENT
BEGIN:VEVENT
DTSTART;TZID=America/New_York:20290216T080000
DTEND;TZID=America/New_York:20290216T090000
DTSTAMP:20260425T195140
CREATED:20260106T172903Z
LAST-MODIFIED:20260106T174734Z
UID:10008382-1865923200-1865926800@keycolonybeach.net
SUMMARY:Pilates @ 7th St Park near Bocce/Shuffleboard Ct.
DESCRIPTION:
URL:https://keycolonybeach.net/event/pilates-2-2/2029-02-16/
END:VEVENT
BEGIN:VEVENT
DTSTART;TZID=America/New_York:20290219T080000
DTEND;TZID=America/New_York:20290219T090000
DTSTAMP:20260425T195140
CREATED:20260106T172903Z
LAST-MODIFIED:20260106T174734Z
UID:10008383-1866182400-1866186000@keycolonybeach.net
SUMMARY:Pilates @ 7th St Park near Bocce/Shuffleboard Ct.
DESCRIPTION:
URL:https://keycolonybeach.net/event/pilates-2-2/2029-02-19/
END:VEVENT
BEGIN:VEVENT
DTSTART;TZID=America/New_York:20290220T153000
DTEND;TZID=America/New_York:20290220T173000
DTSTAMP:20260425T195140
CREATED:20251219T185950Z
LAST-MODIFIED:20251219T185950Z
UID:10007740-1866295800-1866303000@keycolonybeach.net
SUMMARY:Utility Board Meeting
DESCRIPTION:
URL:https://keycolonybeach.net/event/utility-board-meeting-3/2029-02-20/
END:VEVENT
BEGIN:VEVENT
DTSTART;TZID=America/New_York:20290221T080000
DTEND;TZID=America/New_York:20290221T090000
DTSTAMP:20260425T195140
CREATED:20260106T172903Z
LAST-MODIFIED:20260106T174734Z
UID:10008384-1866355200-1866358800@keycolonybeach.net
SUMMARY:Pilates @ 7th St Park near Bocce/Shuffleboard Ct.
DESCRIPTION:
URL:https://keycolonybeach.net/event/pilates-2-2/2029-02-21/
END:VEVENT
BEGIN:VEVENT
DTSTART;TZID=America/New_York:20290221T153000
DTEND;TZID=America/New_York:20290221T173000
DTSTAMP:20260425T195140
CREATED:20241211T133223Z
LAST-MODIFIED:20251219T190512Z
UID:10007808-1866382200-1866389400@keycolonybeach.net
SUMMARY:Planning & Zoning Meeting
DESCRIPTION:
URL:https://keycolonybeach.net/event/planning-zoning-meeting-5/2029-02-21/
END:VEVENT
BEGIN:VEVENT
DTSTART;TZID=America/New_York:20290223T080000
DTEND;TZID=America/New_York:20290223T090000
DTSTAMP:20260425T195140
CREATED:20260106T172903Z
LAST-MODIFIED:20260106T174734Z
UID:10008385-1866528000-1866531600@keycolonybeach.net
SUMMARY:Pilates @ 7th St Park near Bocce/Shuffleboard Ct.
DESCRIPTION:
URL:https://keycolonybeach.net/event/pilates-2-2/2029-02-23/
END:VEVENT
BEGIN:VEVENT
DTSTART;TZID=America/New_York:20290226T080000
DTEND;TZID=America/New_York:20290226T090000
DTSTAMP:20260425T195140
CREATED:20260106T172903Z
LAST-MODIFIED:20260106T174734Z
UID:10008386-1866787200-1866790800@keycolonybeach.net
SUMMARY:Pilates @ 7th St Park near Bocce/Shuffleboard Ct.
DESCRIPTION:
URL:https://keycolonybeach.net/event/pilates-2-2/2029-02-26/
END:VEVENT
BEGIN:VEVENT
DTSTART;TZID=America/New_York:20290228T080000
DTEND;TZID=America/New_York:20290228T090000
DTSTAMP:20260425T195140
CREATED:20260106T172903Z
LAST-MODIFIED:20260106T174734Z
UID:10008387-1866960000-1866963600@keycolonybeach.net
SUMMARY:Pilates @ 7th St Park near Bocce/Shuffleboard Ct.
DESCRIPTION:
URL:https://keycolonybeach.net/event/pilates-2-2/2029-02-28/
END:VEVENT
BEGIN:VEVENT
DTSTART;TZID=America/New_York:20290302T080000
DTEND;TZID=America/New_York:20290302T090000
DTSTAMP:20260425T195140
CREATED:20260106T172903Z
LAST-MODIFIED:20260106T174734Z
UID:10008388-1867132800-1867136400@keycolonybeach.net
SUMMARY:Pilates @ 7th St Park near Bocce/Shuffleboard Ct.
DESCRIPTION:
URL:https://keycolonybeach.net/event/pilates-2-2/2029-03-02/
END:VEVENT
BEGIN:VEVENT
DTSTART;TZID=America/New_York:20290302T180000
DTEND;TZID=America/New_York:20290302T210000
DTSTAMP:20260425T195140
CREATED:20251027T182914Z
LAST-MODIFIED:20251027T182914Z
UID:10006383-1867168800-1867179600@keycolonybeach.net
SUMMARY:Boating & Fishing Club Meeting 6pm
DESCRIPTION:
URL:https://keycolonybeach.net/event/boating-fishing-club-meeting-6pm/2029-03-02/
END:VEVENT
BEGIN:VEVENT
DTSTART;TZID=America/New_York:20290305T080000
DTEND;TZID=America/New_York:20290305T090000
DTSTAMP:20260425T195140
CREATED:20260106T172903Z
LAST-MODIFIED:20260106T174734Z
UID:10008389-1867392000-1867395600@keycolonybeach.net
SUMMARY:Pilates @ 7th St Park near Bocce/Shuffleboard Ct.
DESCRIPTION:
URL:https://keycolonybeach.net/event/pilates-2-2/2029-03-05/
END:VEVENT
BEGIN:VEVENT
DTSTART;TZID=America/New_York:20290306T103000
DTEND;TZID=America/New_York:20290306T113000
DTSTAMP:20260425T195140
CREATED:20251219T165940Z
LAST-MODIFIED:20251219T165940Z
UID:10007599-1867487400-1867491000@keycolonybeach.net
SUMMARY:Property Management Class
DESCRIPTION:
URL:https://keycolonybeach.net/event/property-management-class-7/2029-03-06/
END:VEVENT
BEGIN:VEVENT
DTSTART;TZID=America/New_York:20290307T080000
DTEND;TZID=America/New_York:20290307T090000
DTSTAMP:20260425T195140
CREATED:20260106T172903Z
LAST-MODIFIED:20260106T174734Z
UID:10008390-1867564800-1867568400@keycolonybeach.net
SUMMARY:Pilates @ 7th St Park near Bocce/Shuffleboard Ct.
DESCRIPTION:
URL:https://keycolonybeach.net/event/pilates-2-2/2029-03-07/
END:VEVENT
BEGIN:VEVENT
DTSTART;TZID=America/New_York:20290308T100000
DTEND;TZID=America/New_York:20290308T120000
DTSTAMP:20260425T195140
CREATED:20260409T173003Z
LAST-MODIFIED:20260409T173004Z
UID:10008838-1867658400-1867665600@keycolonybeach.net
SUMMARY:Recreation Committee Meeting 10:00 AM Zoom only
DESCRIPTION:
URL:https://keycolonybeach.net/event/recreation-meeting-330-pm-3/2029-03-08/
END:VEVENT
BEGIN:VEVENT
DTSTART;TZID=America/New_York:20290308T150000
DTEND;TZID=America/New_York:20290308T170000
DTSTAMP:20260425T195140
CREATED:20251017T145821Z
LAST-MODIFIED:20260126T150149Z
UID:10005169-1867676400-1867683600@keycolonybeach.net
SUMMARY:Book Club 3pm
DESCRIPTION:
URL:https://keycolonybeach.net/event/book-club-2/2029-03-08/
END:VEVENT
END:VCALENDAR