BEGIN:VCALENDAR
VERSION:2.0
PRODID:-//City of Key Colony Beach Official City Website - ECPv6.15.20//NONSGML v1.0//EN
CALSCALE:GREGORIAN
METHOD:PUBLISH
X-ORIGINAL-URL:https://keycolonybeach.net
X-WR-CALDESC:Events for City of Key Colony Beach Official City Website
REFRESH-INTERVAL;VALUE=DURATION:PT1H
X-Robots-Tag:noindex
X-PUBLISHED-TTL:PT1H
BEGIN:VTIMEZONE
TZID:America/New_York
BEGIN:DAYLIGHT
TZOFFSETFROM:-0500
TZOFFSETTO:-0400
TZNAME:EDT
DTSTART:20270314T070000
END:DAYLIGHT
BEGIN:STANDARD
TZOFFSETFROM:-0400
TZOFFSETTO:-0500
TZNAME:EST
DTSTART:20271107T060000
END:STANDARD
BEGIN:DAYLIGHT
TZOFFSETFROM:-0500
TZOFFSETTO:-0400
TZNAME:EDT
DTSTART:20280312T070000
END:DAYLIGHT
BEGIN:STANDARD
TZOFFSETFROM:-0400
TZOFFSETTO:-0500
TZNAME:EST
DTSTART:20281105T060000
END:STANDARD
BEGIN:DAYLIGHT
TZOFFSETFROM:-0500
TZOFFSETTO:-0400
TZNAME:EDT
DTSTART:20290311T070000
END:DAYLIGHT
BEGIN:STANDARD
TZOFFSETFROM:-0400
TZOFFSETTO:-0500
TZNAME:EST
DTSTART:20291104T060000
END:STANDARD
END:VTIMEZONE
BEGIN:VEVENT
DTSTART;TZID=America/New_York:20280211T080000
DTEND;TZID=America/New_York:20280211T090000
DTSTAMP:20260423T105518
CREATED:20260106T172903Z
LAST-MODIFIED:20260106T174734Z
UID:10008223-1833868800-1833872400@keycolonybeach.net
SUMMARY:Pilates @ 7th St Park near Bocce/Shuffleboard Ct.
DESCRIPTION:
URL:https://keycolonybeach.net/event/pilates-2-2/2028-02-11/
END:VEVENT
BEGIN:VEVENT
DTSTART;TZID=America/New_York:20280214T080000
DTEND;TZID=America/New_York:20280214T090000
DTSTAMP:20260423T105518
CREATED:20260106T172903Z
LAST-MODIFIED:20260106T174734Z
UID:10008224-1834128000-1834131600@keycolonybeach.net
SUMMARY:Pilates @ 7th St Park near Bocce/Shuffleboard Ct.
DESCRIPTION:
URL:https://keycolonybeach.net/event/pilates-2-2/2028-02-14/
END:VEVENT
BEGIN:VEVENT
DTSTART;TZID=America/New_York:20280215T153000
DTEND;TZID=America/New_York:20280215T173000
DTSTAMP:20260423T105518
CREATED:20251219T185950Z
LAST-MODIFIED:20251219T185950Z
UID:10007728-1834241400-1834248600@keycolonybeach.net
SUMMARY:Utility Board Meeting
DESCRIPTION:
URL:https://keycolonybeach.net/event/utility-board-meeting-3/2028-02-15/
END:VEVENT
BEGIN:VEVENT
DTSTART;TZID=America/New_York:20280216T080000
DTEND;TZID=America/New_York:20280216T090000
DTSTAMP:20260423T105518
CREATED:20260106T172903Z
LAST-MODIFIED:20260106T174734Z
UID:10008225-1834300800-1834304400@keycolonybeach.net
SUMMARY:Pilates @ 7th St Park near Bocce/Shuffleboard Ct.
DESCRIPTION:
URL:https://keycolonybeach.net/event/pilates-2-2/2028-02-16/
END:VEVENT
BEGIN:VEVENT
DTSTART;TZID=America/New_York:20280216T153000
DTEND;TZID=America/New_York:20280216T173000
DTSTAMP:20260423T105518
CREATED:20241211T133223Z
LAST-MODIFIED:20251219T190512Z
UID:10007796-1834327800-1834335000@keycolonybeach.net
SUMMARY:Planning & Zoning Meeting
DESCRIPTION:
URL:https://keycolonybeach.net/event/planning-zoning-meeting-5/2028-02-16/
END:VEVENT
BEGIN:VEVENT
DTSTART;TZID=America/New_York:20280217T153000
DTEND;TZID=America/New_York:20280217T173000
DTSTAMP:20260423T105518
CREATED:20260421T164137Z
LAST-MODIFIED:20260421T164137Z
UID:10008992-1834414200-1834421400@keycolonybeach.net
SUMMARY:City Commission Regular Meeting & Public Hearing
DESCRIPTION:
URL:https://keycolonybeach.net/event/city-commission-regular-meeting-public-hearing-5-2/2028-02-17/
LOCATION:Marble Hall\, 600 W Ocean Drive\, Key Colony Beach\, FL\, 33051
END:VEVENT
BEGIN:VEVENT
DTSTART;TZID=America/New_York:20280218T080000
DTEND;TZID=America/New_York:20280218T090000
DTSTAMP:20260423T105518
CREATED:20260106T172903Z
LAST-MODIFIED:20260106T174734Z
UID:10008226-1834473600-1834477200@keycolonybeach.net
SUMMARY:Pilates @ 7th St Park near Bocce/Shuffleboard Ct.
DESCRIPTION:
URL:https://keycolonybeach.net/event/pilates-2-2/2028-02-18/
END:VEVENT
BEGIN:VEVENT
DTSTART;TZID=America/New_York:20280221T080000
DTEND;TZID=America/New_York:20280221T090000
DTSTAMP:20260423T105518
CREATED:20260106T172903Z
LAST-MODIFIED:20260106T174734Z
UID:10008227-1834732800-1834736400@keycolonybeach.net
SUMMARY:Pilates @ 7th St Park near Bocce/Shuffleboard Ct.
DESCRIPTION:
URL:https://keycolonybeach.net/event/pilates-2-2/2028-02-21/
END:VEVENT
BEGIN:VEVENT
DTSTART;TZID=America/New_York:20280223T080000
DTEND;TZID=America/New_York:20280223T090000
DTSTAMP:20260423T105518
CREATED:20260106T172903Z
LAST-MODIFIED:20260106T174734Z
UID:10008228-1834905600-1834909200@keycolonybeach.net
SUMMARY:Pilates @ 7th St Park near Bocce/Shuffleboard Ct.
DESCRIPTION:
URL:https://keycolonybeach.net/event/pilates-2-2/2028-02-23/
END:VEVENT
BEGIN:VEVENT
DTSTART;TZID=America/New_York:20280225T080000
DTEND;TZID=America/New_York:20280225T090000
DTSTAMP:20260423T105518
CREATED:20260106T172903Z
LAST-MODIFIED:20260106T174734Z
UID:10008229-1835078400-1835082000@keycolonybeach.net
SUMMARY:Pilates @ 7th St Park near Bocce/Shuffleboard Ct.
DESCRIPTION:
URL:https://keycolonybeach.net/event/pilates-2-2/2028-02-25/
END:VEVENT
BEGIN:VEVENT
DTSTART;TZID=America/New_York:20280228T080000
DTEND;TZID=America/New_York:20280228T090000
DTSTAMP:20260423T105518
CREATED:20260106T172903Z
LAST-MODIFIED:20260106T174734Z
UID:10008230-1835337600-1835341200@keycolonybeach.net
SUMMARY:Pilates @ 7th St Park near Bocce/Shuffleboard Ct.
DESCRIPTION:
URL:https://keycolonybeach.net/event/pilates-2-2/2028-02-28/
END:VEVENT
BEGIN:VEVENT
DTSTART;TZID=America/New_York:20280301T080000
DTEND;TZID=America/New_York:20280301T090000
DTSTAMP:20260423T105518
CREATED:20260106T172903Z
LAST-MODIFIED:20260106T174734Z
UID:10008231-1835510400-1835514000@keycolonybeach.net
SUMMARY:Pilates @ 7th St Park near Bocce/Shuffleboard Ct.
DESCRIPTION:
URL:https://keycolonybeach.net/event/pilates-2-2/2028-03-01/
END:VEVENT
BEGIN:VEVENT
DTSTART;TZID=America/New_York:20280303T080000
DTEND;TZID=America/New_York:20280303T090000
DTSTAMP:20260423T105518
CREATED:20260106T172903Z
LAST-MODIFIED:20260106T174734Z
UID:10008232-1835683200-1835686800@keycolonybeach.net
SUMMARY:Pilates @ 7th St Park near Bocce/Shuffleboard Ct.
DESCRIPTION:
URL:https://keycolonybeach.net/event/pilates-2-2/2028-03-03/
END:VEVENT
BEGIN:VEVENT
DTSTART;TZID=America/New_York:20280303T180000
DTEND;TZID=America/New_York:20280303T210000
DTSTAMP:20260423T105518
CREATED:20251027T182914Z
LAST-MODIFIED:20251027T182914Z
UID:10006371-1835719200-1835730000@keycolonybeach.net
SUMMARY:Boating & Fishing Club Meeting 6pm
DESCRIPTION:
URL:https://keycolonybeach.net/event/boating-fishing-club-meeting-6pm/2028-03-03/
END:VEVENT
BEGIN:VEVENT
DTSTART;TZID=America/New_York:20280306T080000
DTEND;TZID=America/New_York:20280306T090000
DTSTAMP:20260423T105518
CREATED:20260106T172903Z
LAST-MODIFIED:20260106T174734Z
UID:10008233-1835942400-1835946000@keycolonybeach.net
SUMMARY:Pilates @ 7th St Park near Bocce/Shuffleboard Ct.
DESCRIPTION:
URL:https://keycolonybeach.net/event/pilates-2-2/2028-03-06/
END:VEVENT
BEGIN:VEVENT
DTSTART;TZID=America/New_York:20280307T103000
DTEND;TZID=America/New_York:20280307T113000
DTSTAMP:20260423T105518
CREATED:20251219T165940Z
LAST-MODIFIED:20251219T165940Z
UID:10007587-1836037800-1836041400@keycolonybeach.net
SUMMARY:Property Management Class
DESCRIPTION:
URL:https://keycolonybeach.net/event/property-management-class-7/2028-03-07/
END:VEVENT
BEGIN:VEVENT
DTSTART;TZID=America/New_York:20280308T080000
DTEND;TZID=America/New_York:20280308T090000
DTSTAMP:20260423T105518
CREATED:20260106T172903Z
LAST-MODIFIED:20260106T174734Z
UID:10008234-1836115200-1836118800@keycolonybeach.net
SUMMARY:Pilates @ 7th St Park near Bocce/Shuffleboard Ct.
DESCRIPTION:
URL:https://keycolonybeach.net/event/pilates-2-2/2028-03-08/
END:VEVENT
BEGIN:VEVENT
DTSTART;TZID=America/New_York:20280309T100000
DTEND;TZID=America/New_York:20280309T120000
DTSTAMP:20260423T105518
CREATED:20260409T173003Z
LAST-MODIFIED:20260409T173004Z
UID:10008826-1836208800-1836216000@keycolonybeach.net
SUMMARY:Recreation Committee Meeting 10:00 AM Zoom only
DESCRIPTION:
URL:https://keycolonybeach.net/event/recreation-meeting-330-pm-3/2028-03-09/
END:VEVENT
BEGIN:VEVENT
DTSTART;TZID=America/New_York:20280309T150000
DTEND;TZID=America/New_York:20280309T170000
DTSTAMP:20260423T105518
CREATED:20251017T145821Z
LAST-MODIFIED:20260126T150149Z
UID:10005157-1836226800-1836234000@keycolonybeach.net
SUMMARY:Book Club 3pm
DESCRIPTION:
URL:https://keycolonybeach.net/event/book-club-2/2028-03-09/
END:VEVENT
BEGIN:VEVENT
DTSTART;TZID=America/New_York:20280310T080000
DTEND;TZID=America/New_York:20280310T090000
DTSTAMP:20260423T105518
CREATED:20260106T172903Z
LAST-MODIFIED:20260106T174734Z
UID:10008235-1836288000-1836291600@keycolonybeach.net
SUMMARY:Pilates @ 7th St Park near Bocce/Shuffleboard Ct.
DESCRIPTION:
URL:https://keycolonybeach.net/event/pilates-2-2/2028-03-10/
END:VEVENT
BEGIN:VEVENT
DTSTART;TZID=America/New_York:20280313T080000
DTEND;TZID=America/New_York:20280313T090000
DTSTAMP:20260423T105518
CREATED:20260106T172903Z
LAST-MODIFIED:20260106T174734Z
UID:10008236-1836547200-1836550800@keycolonybeach.net
SUMMARY:Pilates @ 7th St Park near Bocce/Shuffleboard Ct.
DESCRIPTION:
URL:https://keycolonybeach.net/event/pilates-2-2/2028-03-13/
END:VEVENT
BEGIN:VEVENT
DTSTART;TZID=America/New_York:20280314T100000
DTEND;TZID=America/New_York:20280314T120000
DTSTAMP:20260423T105518
CREATED:20260415T122359Z
LAST-MODIFIED:20260415T122400Z
UID:10008885-1836640800-1836648000@keycolonybeach.net
SUMMARY:Beautification Meeting Zoom only
DESCRIPTION:
URL:https://keycolonybeach.net/event/beautification-meeting-7/2028-03-14/
END:VEVENT
BEGIN:VEVENT
DTSTART;TZID=America/New_York:20280315T080000
DTEND;TZID=America/New_York:20280315T090000
DTSTAMP:20260423T105518
CREATED:20260106T172903Z
LAST-MODIFIED:20260106T174734Z
UID:10008237-1836720000-1836723600@keycolonybeach.net
SUMMARY:Pilates @ 7th St Park near Bocce/Shuffleboard Ct.
DESCRIPTION:
URL:https://keycolonybeach.net/event/pilates-2-2/2028-03-15/
END:VEVENT
BEGIN:VEVENT
DTSTART;TZID=America/New_York:20280315T153000
DTEND;TZID=America/New_York:20280315T173000
DTSTAMP:20260423T105518
CREATED:20241211T133223Z
LAST-MODIFIED:20251219T190512Z
UID:10007797-1836747000-1836754200@keycolonybeach.net
SUMMARY:Planning & Zoning Meeting
DESCRIPTION:
URL:https://keycolonybeach.net/event/planning-zoning-meeting-5/2028-03-15/
END:VEVENT
BEGIN:VEVENT
DTSTART;TZID=America/New_York:20280316T153000
DTEND;TZID=America/New_York:20280316T173000
DTSTAMP:20260423T105518
CREATED:20260421T164137Z
LAST-MODIFIED:20260421T164137Z
UID:10008993-1836833400-1836840600@keycolonybeach.net
SUMMARY:City Commission Regular Meeting & Public Hearing
DESCRIPTION:
URL:https://keycolonybeach.net/event/city-commission-regular-meeting-public-hearing-5-2/2028-03-16/
LOCATION:Marble Hall\, 600 W Ocean Drive\, Key Colony Beach\, FL\, 33051
END:VEVENT
BEGIN:VEVENT
DTSTART;TZID=America/New_York:20280317T080000
DTEND;TZID=America/New_York:20280317T090000
DTSTAMP:20260423T105518
CREATED:20260106T172903Z
LAST-MODIFIED:20260106T174734Z
UID:10008238-1836892800-1836896400@keycolonybeach.net
SUMMARY:Pilates @ 7th St Park near Bocce/Shuffleboard Ct.
DESCRIPTION:
URL:https://keycolonybeach.net/event/pilates-2-2/2028-03-17/
END:VEVENT
BEGIN:VEVENT
DTSTART;TZID=America/New_York:20280320T080000
DTEND;TZID=America/New_York:20280320T090000
DTSTAMP:20260423T105518
CREATED:20260106T172903Z
LAST-MODIFIED:20260106T174734Z
UID:10008239-1837152000-1837155600@keycolonybeach.net
SUMMARY:Pilates @ 7th St Park near Bocce/Shuffleboard Ct.
DESCRIPTION:
URL:https://keycolonybeach.net/event/pilates-2-2/2028-03-20/
END:VEVENT
BEGIN:VEVENT
DTSTART;TZID=America/New_York:20280321T153000
DTEND;TZID=America/New_York:20280321T173000
DTSTAMP:20260423T105518
CREATED:20251219T185950Z
LAST-MODIFIED:20251219T185950Z
UID:10007729-1837265400-1837272600@keycolonybeach.net
SUMMARY:Utility Board Meeting
DESCRIPTION:
URL:https://keycolonybeach.net/event/utility-board-meeting-3/2028-03-21/
END:VEVENT
BEGIN:VEVENT
DTSTART;TZID=America/New_York:20280322T080000
DTEND;TZID=America/New_York:20280322T090000
DTSTAMP:20260423T105518
CREATED:20260106T172903Z
LAST-MODIFIED:20260106T174734Z
UID:10008240-1837324800-1837328400@keycolonybeach.net
SUMMARY:Pilates @ 7th St Park near Bocce/Shuffleboard Ct.
DESCRIPTION:
URL:https://keycolonybeach.net/event/pilates-2-2/2028-03-22/
END:VEVENT
BEGIN:VEVENT
DTSTART;TZID=America/New_York:20280324T080000
DTEND;TZID=America/New_York:20280324T090000
DTSTAMP:20260423T105518
CREATED:20260106T172903Z
LAST-MODIFIED:20260106T174734Z
UID:10008241-1837497600-1837501200@keycolonybeach.net
SUMMARY:Pilates @ 7th St Park near Bocce/Shuffleboard Ct.
DESCRIPTION:
URL:https://keycolonybeach.net/event/pilates-2-2/2028-03-24/
END:VEVENT
END:VCALENDAR