BEGIN:VCALENDAR
VERSION:2.0
PRODID:-//City of Key Colony Beach Official City Website - ECPv6.15.20//NONSGML v1.0//EN
CALSCALE:GREGORIAN
METHOD:PUBLISH
X-ORIGINAL-URL:https://keycolonybeach.net
X-WR-CALDESC:Events for City of Key Colony Beach Official City Website
REFRESH-INTERVAL;VALUE=DURATION:PT1H
X-Robots-Tag:noindex
X-PUBLISHED-TTL:PT1H
BEGIN:VTIMEZONE
TZID:America/New_York
BEGIN:DAYLIGHT
TZOFFSETFROM:-0500
TZOFFSETTO:-0400
TZNAME:EDT
DTSTART:20270314T070000
END:DAYLIGHT
BEGIN:STANDARD
TZOFFSETFROM:-0400
TZOFFSETTO:-0500
TZNAME:EST
DTSTART:20271107T060000
END:STANDARD
BEGIN:DAYLIGHT
TZOFFSETFROM:-0500
TZOFFSETTO:-0400
TZNAME:EDT
DTSTART:20280312T070000
END:DAYLIGHT
BEGIN:STANDARD
TZOFFSETFROM:-0400
TZOFFSETTO:-0500
TZNAME:EST
DTSTART:20281105T060000
END:STANDARD
BEGIN:DAYLIGHT
TZOFFSETFROM:-0500
TZOFFSETTO:-0400
TZNAME:EDT
DTSTART:20290311T070000
END:DAYLIGHT
BEGIN:STANDARD
TZOFFSETFROM:-0400
TZOFFSETTO:-0500
TZNAME:EST
DTSTART:20291104T060000
END:STANDARD
END:VTIMEZONE
BEGIN:VEVENT
DTSTART;TZID=America/New_York:20280508T080000
DTEND;TZID=America/New_York:20280508T090000
DTSTAMP:20260423T202129
CREATED:20260106T172903Z
LAST-MODIFIED:20260106T174734Z
UID:10008260-1841385600-1841389200@keycolonybeach.net
SUMMARY:Pilates @ 7th St Park near Bocce/Shuffleboard Ct.
DESCRIPTION:
URL:https://keycolonybeach.net/event/pilates-2-2/2028-05-08/
END:VEVENT
BEGIN:VEVENT
DTSTART;TZID=America/New_York:20280509T100000
DTEND;TZID=America/New_York:20280509T120000
DTSTAMP:20260423T202129
CREATED:20260415T122359Z
LAST-MODIFIED:20260415T122400Z
UID:10008887-1841479200-1841486400@keycolonybeach.net
SUMMARY:Beautification Meeting Zoom only
DESCRIPTION:
URL:https://keycolonybeach.net/event/beautification-meeting-7/2028-05-09/
END:VEVENT
BEGIN:VEVENT
DTSTART;TZID=America/New_York:20280510T080000
DTEND;TZID=America/New_York:20280510T090000
DTSTAMP:20260423T202129
CREATED:20260106T172903Z
LAST-MODIFIED:20260106T174734Z
UID:10008261-1841558400-1841562000@keycolonybeach.net
SUMMARY:Pilates @ 7th St Park near Bocce/Shuffleboard Ct.
DESCRIPTION:
URL:https://keycolonybeach.net/event/pilates-2-2/2028-05-10/
END:VEVENT
BEGIN:VEVENT
DTSTART;TZID=America/New_York:20280511T100000
DTEND;TZID=America/New_York:20280511T120000
DTSTAMP:20260423T202129
CREATED:20260409T173003Z
LAST-MODIFIED:20260409T173004Z
UID:10008828-1841652000-1841659200@keycolonybeach.net
SUMMARY:Recreation Committee Meeting 10:00 AM Zoom only
DESCRIPTION:
URL:https://keycolonybeach.net/event/recreation-meeting-330-pm-3/2028-05-11/
END:VEVENT
BEGIN:VEVENT
DTSTART;TZID=America/New_York:20280511T150000
DTEND;TZID=America/New_York:20280511T170000
DTSTAMP:20260423T202129
CREATED:20251017T145821Z
LAST-MODIFIED:20260126T150149Z
UID:10005159-1841670000-1841677200@keycolonybeach.net
SUMMARY:Book Club 3pm
DESCRIPTION:
URL:https://keycolonybeach.net/event/book-club-2/2028-05-11/
END:VEVENT
BEGIN:VEVENT
DTSTART;TZID=America/New_York:20280512T080000
DTEND;TZID=America/New_York:20280512T090000
DTSTAMP:20260423T202129
CREATED:20260106T172903Z
LAST-MODIFIED:20260106T174734Z
UID:10008262-1841731200-1841734800@keycolonybeach.net
SUMMARY:Pilates @ 7th St Park near Bocce/Shuffleboard Ct.
DESCRIPTION:
URL:https://keycolonybeach.net/event/pilates-2-2/2028-05-12/
END:VEVENT
BEGIN:VEVENT
DTSTART;TZID=America/New_York:20280515T080000
DTEND;TZID=America/New_York:20280515T090000
DTSTAMP:20260423T202129
CREATED:20260106T172903Z
LAST-MODIFIED:20260106T174734Z
UID:10008263-1841990400-1841994000@keycolonybeach.net
SUMMARY:Pilates @ 7th St Park near Bocce/Shuffleboard Ct.
DESCRIPTION:
URL:https://keycolonybeach.net/event/pilates-2-2/2028-05-15/
END:VEVENT
BEGIN:VEVENT
DTSTART;TZID=America/New_York:20280516T153000
DTEND;TZID=America/New_York:20280516T173000
DTSTAMP:20260423T202129
CREATED:20251219T185950Z
LAST-MODIFIED:20251219T185950Z
UID:10007731-1842103800-1842111000@keycolonybeach.net
SUMMARY:Utility Board Meeting
DESCRIPTION:
URL:https://keycolonybeach.net/event/utility-board-meeting-3/2028-05-16/
END:VEVENT
BEGIN:VEVENT
DTSTART;TZID=America/New_York:20280517T080000
DTEND;TZID=America/New_York:20280517T090000
DTSTAMP:20260423T202129
CREATED:20260106T172903Z
LAST-MODIFIED:20260106T174734Z
UID:10008264-1842163200-1842166800@keycolonybeach.net
SUMMARY:Pilates @ 7th St Park near Bocce/Shuffleboard Ct.
DESCRIPTION:
URL:https://keycolonybeach.net/event/pilates-2-2/2028-05-17/
END:VEVENT
BEGIN:VEVENT
DTSTART;TZID=America/New_York:20280517T153000
DTEND;TZID=America/New_York:20280517T173000
DTSTAMP:20260423T202129
CREATED:20241211T133223Z
LAST-MODIFIED:20251219T190512Z
UID:10007799-1842190200-1842197400@keycolonybeach.net
SUMMARY:Planning & Zoning Meeting
DESCRIPTION:
URL:https://keycolonybeach.net/event/planning-zoning-meeting-5/2028-05-17/
END:VEVENT
BEGIN:VEVENT
DTSTART;TZID=America/New_York:20280518T153000
DTEND;TZID=America/New_York:20280518T173000
DTSTAMP:20260423T202129
CREATED:20260421T164137Z
LAST-MODIFIED:20260421T164137Z
UID:10008995-1842276600-1842283800@keycolonybeach.net
SUMMARY:City Commission Regular Meeting & Public Hearing
DESCRIPTION:
URL:https://keycolonybeach.net/event/city-commission-regular-meeting-public-hearing-5-2/2028-05-18/
LOCATION:Marble Hall\, 600 W Ocean Drive\, Key Colony Beach\, FL\, 33051
END:VEVENT
BEGIN:VEVENT
DTSTART;TZID=America/New_York:20280519T080000
DTEND;TZID=America/New_York:20280519T090000
DTSTAMP:20260423T202129
CREATED:20260106T172903Z
LAST-MODIFIED:20260106T174734Z
UID:10008265-1842336000-1842339600@keycolonybeach.net
SUMMARY:Pilates @ 7th St Park near Bocce/Shuffleboard Ct.
DESCRIPTION:
URL:https://keycolonybeach.net/event/pilates-2-2/2028-05-19/
END:VEVENT
BEGIN:VEVENT
DTSTART;TZID=America/New_York:20280522T080000
DTEND;TZID=America/New_York:20280522T090000
DTSTAMP:20260423T202129
CREATED:20260106T172903Z
LAST-MODIFIED:20260106T174734Z
UID:10008266-1842595200-1842598800@keycolonybeach.net
SUMMARY:Pilates @ 7th St Park near Bocce/Shuffleboard Ct.
DESCRIPTION:
URL:https://keycolonybeach.net/event/pilates-2-2/2028-05-22/
END:VEVENT
BEGIN:VEVENT
DTSTART;TZID=America/New_York:20280524T080000
DTEND;TZID=America/New_York:20280524T090000
DTSTAMP:20260423T202129
CREATED:20260106T172903Z
LAST-MODIFIED:20260106T174734Z
UID:10008267-1842768000-1842771600@keycolonybeach.net
SUMMARY:Pilates @ 7th St Park near Bocce/Shuffleboard Ct.
DESCRIPTION:
URL:https://keycolonybeach.net/event/pilates-2-2/2028-05-24/
END:VEVENT
BEGIN:VEVENT
DTSTART;TZID=America/New_York:20280526T080000
DTEND;TZID=America/New_York:20280526T090000
DTSTAMP:20260423T202129
CREATED:20260106T172903Z
LAST-MODIFIED:20260106T174734Z
UID:10008268-1842940800-1842944400@keycolonybeach.net
SUMMARY:Pilates @ 7th St Park near Bocce/Shuffleboard Ct.
DESCRIPTION:
URL:https://keycolonybeach.net/event/pilates-2-2/2028-05-26/
END:VEVENT
BEGIN:VEVENT
DTSTART;TZID=America/New_York:20280529T080000
DTEND;TZID=America/New_York:20280529T090000
DTSTAMP:20260423T202129
CREATED:20260106T172903Z
LAST-MODIFIED:20260106T174734Z
UID:10008269-1843200000-1843203600@keycolonybeach.net
SUMMARY:Pilates @ 7th St Park near Bocce/Shuffleboard Ct.
DESCRIPTION:
URL:https://keycolonybeach.net/event/pilates-2-2/2028-05-29/
END:VEVENT
BEGIN:VEVENT
DTSTART;TZID=America/New_York:20280531T080000
DTEND;TZID=America/New_York:20280531T090000
DTSTAMP:20260423T202129
CREATED:20260106T172903Z
LAST-MODIFIED:20260106T174734Z
UID:10008270-1843372800-1843376400@keycolonybeach.net
SUMMARY:Pilates @ 7th St Park near Bocce/Shuffleboard Ct.
DESCRIPTION:
URL:https://keycolonybeach.net/event/pilates-2-2/2028-05-31/
END:VEVENT
BEGIN:VEVENT
DTSTART;TZID=America/New_York:20280602T080000
DTEND;TZID=America/New_York:20280602T090000
DTSTAMP:20260423T202129
CREATED:20260106T172903Z
LAST-MODIFIED:20260106T174734Z
UID:10008271-1843545600-1843549200@keycolonybeach.net
SUMMARY:Pilates @ 7th St Park near Bocce/Shuffleboard Ct.
DESCRIPTION:
URL:https://keycolonybeach.net/event/pilates-2-2/2028-06-02/
END:VEVENT
BEGIN:VEVENT
DTSTART;TZID=America/New_York:20280602T180000
DTEND;TZID=America/New_York:20280602T210000
DTSTAMP:20260423T202129
CREATED:20251027T182914Z
LAST-MODIFIED:20251027T182914Z
UID:10006374-1843581600-1843592400@keycolonybeach.net
SUMMARY:Boating & Fishing Club Meeting 6pm
DESCRIPTION:
URL:https://keycolonybeach.net/event/boating-fishing-club-meeting-6pm/2028-06-02/
END:VEVENT
BEGIN:VEVENT
DTSTART;TZID=America/New_York:20280605T080000
DTEND;TZID=America/New_York:20280605T090000
DTSTAMP:20260423T202129
CREATED:20260106T172903Z
LAST-MODIFIED:20260106T174734Z
UID:10008272-1843804800-1843808400@keycolonybeach.net
SUMMARY:Pilates @ 7th St Park near Bocce/Shuffleboard Ct.
DESCRIPTION:
URL:https://keycolonybeach.net/event/pilates-2-2/2028-06-05/
END:VEVENT
BEGIN:VEVENT
DTSTART;TZID=America/New_York:20280606T103000
DTEND;TZID=America/New_York:20280606T113000
DTSTAMP:20260423T202129
CREATED:20251219T165940Z
LAST-MODIFIED:20251219T165940Z
UID:10007590-1843900200-1843903800@keycolonybeach.net
SUMMARY:Property Management Class
DESCRIPTION:
URL:https://keycolonybeach.net/event/property-management-class-7/2028-06-06/
END:VEVENT
BEGIN:VEVENT
DTSTART;TZID=America/New_York:20280607T080000
DTEND;TZID=America/New_York:20280607T090000
DTSTAMP:20260423T202129
CREATED:20260106T172903Z
LAST-MODIFIED:20260106T174734Z
UID:10008273-1843977600-1843981200@keycolonybeach.net
SUMMARY:Pilates @ 7th St Park near Bocce/Shuffleboard Ct.
DESCRIPTION:
URL:https://keycolonybeach.net/event/pilates-2-2/2028-06-07/
END:VEVENT
BEGIN:VEVENT
DTSTART;TZID=America/New_York:20280608T100000
DTEND;TZID=America/New_York:20280608T120000
DTSTAMP:20260423T202129
CREATED:20260409T173003Z
LAST-MODIFIED:20260409T173004Z
UID:10008829-1844071200-1844078400@keycolonybeach.net
SUMMARY:Recreation Committee Meeting 10:00 AM Zoom only
DESCRIPTION:
URL:https://keycolonybeach.net/event/recreation-meeting-330-pm-3/2028-06-08/
END:VEVENT
BEGIN:VEVENT
DTSTART;TZID=America/New_York:20280608T150000
DTEND;TZID=America/New_York:20280608T170000
DTSTAMP:20260423T202129
CREATED:20251017T145821Z
LAST-MODIFIED:20260126T150149Z
UID:10005160-1844089200-1844096400@keycolonybeach.net
SUMMARY:Book Club 3pm
DESCRIPTION:
URL:https://keycolonybeach.net/event/book-club-2/2028-06-08/
END:VEVENT
BEGIN:VEVENT
DTSTART;TZID=America/New_York:20280609T080000
DTEND;TZID=America/New_York:20280609T090000
DTSTAMP:20260423T202129
CREATED:20260106T172903Z
LAST-MODIFIED:20260106T174734Z
UID:10008274-1844150400-1844154000@keycolonybeach.net
SUMMARY:Pilates @ 7th St Park near Bocce/Shuffleboard Ct.
DESCRIPTION:
URL:https://keycolonybeach.net/event/pilates-2-2/2028-06-09/
END:VEVENT
BEGIN:VEVENT
DTSTART;TZID=America/New_York:20280612T080000
DTEND;TZID=America/New_York:20280612T090000
DTSTAMP:20260423T202129
CREATED:20260106T172903Z
LAST-MODIFIED:20260106T174734Z
UID:10008275-1844409600-1844413200@keycolonybeach.net
SUMMARY:Pilates @ 7th St Park near Bocce/Shuffleboard Ct.
DESCRIPTION:
URL:https://keycolonybeach.net/event/pilates-2-2/2028-06-12/
END:VEVENT
BEGIN:VEVENT
DTSTART;TZID=America/New_York:20280613T100000
DTEND;TZID=America/New_York:20280613T120000
DTSTAMP:20260423T202129
CREATED:20260415T122359Z
LAST-MODIFIED:20260415T122400Z
UID:10008888-1844503200-1844510400@keycolonybeach.net
SUMMARY:Beautification Meeting Zoom only
DESCRIPTION:
URL:https://keycolonybeach.net/event/beautification-meeting-7/2028-06-13/
END:VEVENT
BEGIN:VEVENT
DTSTART;TZID=America/New_York:20280614T080000
DTEND;TZID=America/New_York:20280614T090000
DTSTAMP:20260423T202129
CREATED:20260106T172903Z
LAST-MODIFIED:20260106T174734Z
UID:10008276-1844582400-1844586000@keycolonybeach.net
SUMMARY:Pilates @ 7th St Park near Bocce/Shuffleboard Ct.
DESCRIPTION:
URL:https://keycolonybeach.net/event/pilates-2-2/2028-06-14/
END:VEVENT
BEGIN:VEVENT
DTSTART;TZID=America/New_York:20280615T153000
DTEND;TZID=America/New_York:20280615T173000
DTSTAMP:20260423T202129
CREATED:20260421T164137Z
LAST-MODIFIED:20260421T164137Z
UID:10008996-1844695800-1844703000@keycolonybeach.net
SUMMARY:City Commission Regular Meeting & Public Hearing
DESCRIPTION:
URL:https://keycolonybeach.net/event/city-commission-regular-meeting-public-hearing-5-2/2028-06-15/
LOCATION:Marble Hall\, 600 W Ocean Drive\, Key Colony Beach\, FL\, 33051
END:VEVENT
BEGIN:VEVENT
DTSTART;TZID=America/New_York:20280616T080000
DTEND;TZID=America/New_York:20280616T090000
DTSTAMP:20260423T202129
CREATED:20260106T172903Z
LAST-MODIFIED:20260106T174734Z
UID:10008277-1844755200-1844758800@keycolonybeach.net
SUMMARY:Pilates @ 7th St Park near Bocce/Shuffleboard Ct.
DESCRIPTION:
URL:https://keycolonybeach.net/event/pilates-2-2/2028-06-16/
END:VEVENT
END:VCALENDAR