BEGIN:VCALENDAR
VERSION:2.0
PRODID:-//City of Key Colony Beach Official City Website - ECPv6.15.20//NONSGML v1.0//EN
CALSCALE:GREGORIAN
METHOD:PUBLISH
X-WR-CALNAME:City of Key Colony Beach Official City Website
X-ORIGINAL-URL:https://keycolonybeach.net
X-WR-CALDESC:Events for City of Key Colony Beach Official City Website
REFRESH-INTERVAL;VALUE=DURATION:PT1H
X-Robots-Tag:noindex
X-PUBLISHED-TTL:PT1H
BEGIN:VTIMEZONE
TZID:America/New_York
BEGIN:DAYLIGHT
TZOFFSETFROM:-0500
TZOFFSETTO:-0400
TZNAME:EDT
DTSTART:20280312T070000
END:DAYLIGHT
BEGIN:STANDARD
TZOFFSETFROM:-0400
TZOFFSETTO:-0500
TZNAME:EST
DTSTART:20281105T060000
END:STANDARD
BEGIN:DAYLIGHT
TZOFFSETFROM:-0500
TZOFFSETTO:-0400
TZNAME:EDT
DTSTART:20290311T070000
END:DAYLIGHT
BEGIN:STANDARD
TZOFFSETFROM:-0400
TZOFFSETTO:-0500
TZNAME:EST
DTSTART:20291104T060000
END:STANDARD
BEGIN:DAYLIGHT
TZOFFSETFROM:-0500
TZOFFSETTO:-0400
TZNAME:EDT
DTSTART:20300310T070000
END:DAYLIGHT
BEGIN:STANDARD
TZOFFSETFROM:-0400
TZOFFSETTO:-0500
TZNAME:EST
DTSTART:20301103T060000
END:STANDARD
END:VTIMEZONE
BEGIN:VEVENT
DTSTART;TZID=America/New_York:20290820T080000
DTEND;TZID=America/New_York:20290820T090000
DTSTAMP:20260425T233847
CREATED:20260106T172903Z
LAST-MODIFIED:20260106T174734Z
UID:10008461-1881907200-1881910800@keycolonybeach.net
SUMMARY:Pilates @ 7th St Park near Bocce/Shuffleboard Ct.
DESCRIPTION:
URL:https://keycolonybeach.net/event/pilates-2-2/2029-08-20/
END:VEVENT
BEGIN:VEVENT
DTSTART;TZID=America/New_York:20290821T153000
DTEND;TZID=America/New_York:20290821T173000
DTSTAMP:20260425T233847
CREATED:20251219T185950Z
LAST-MODIFIED:20251219T185950Z
UID:10007746-1882020600-1882027800@keycolonybeach.net
SUMMARY:Utility Board Meeting
DESCRIPTION:
URL:https://keycolonybeach.net/event/utility-board-meeting-3/2029-08-21/
END:VEVENT
BEGIN:VEVENT
DTSTART;TZID=America/New_York:20290822T080000
DTEND;TZID=America/New_York:20290822T090000
DTSTAMP:20260425T233847
CREATED:20260106T172903Z
LAST-MODIFIED:20260106T174734Z
UID:10008462-1882080000-1882083600@keycolonybeach.net
SUMMARY:Pilates @ 7th St Park near Bocce/Shuffleboard Ct.
DESCRIPTION:
URL:https://keycolonybeach.net/event/pilates-2-2/2029-08-22/
END:VEVENT
BEGIN:VEVENT
DTSTART;TZID=America/New_York:20290824T080000
DTEND;TZID=America/New_York:20290824T090000
DTSTAMP:20260425T233847
CREATED:20260106T172903Z
LAST-MODIFIED:20260106T174734Z
UID:10008463-1882252800-1882256400@keycolonybeach.net
SUMMARY:Pilates @ 7th St Park near Bocce/Shuffleboard Ct.
DESCRIPTION:
URL:https://keycolonybeach.net/event/pilates-2-2/2029-08-24/
END:VEVENT
BEGIN:VEVENT
DTSTART;TZID=America/New_York:20290827T080000
DTEND;TZID=America/New_York:20290827T090000
DTSTAMP:20260425T233847
CREATED:20260106T172903Z
LAST-MODIFIED:20260106T174734Z
UID:10008464-1882512000-1882515600@keycolonybeach.net
SUMMARY:Pilates @ 7th St Park near Bocce/Shuffleboard Ct.
DESCRIPTION:
URL:https://keycolonybeach.net/event/pilates-2-2/2029-08-27/
END:VEVENT
BEGIN:VEVENT
DTSTART;TZID=America/New_York:20290829T080000
DTEND;TZID=America/New_York:20290829T090000
DTSTAMP:20260425T233847
CREATED:20260106T172903Z
LAST-MODIFIED:20260106T174734Z
UID:10008465-1882684800-1882688400@keycolonybeach.net
SUMMARY:Pilates @ 7th St Park near Bocce/Shuffleboard Ct.
DESCRIPTION:
URL:https://keycolonybeach.net/event/pilates-2-2/2029-08-29/
END:VEVENT
BEGIN:VEVENT
DTSTART;TZID=America/New_York:20290831T080000
DTEND;TZID=America/New_York:20290831T090000
DTSTAMP:20260425T233847
CREATED:20260106T172903Z
LAST-MODIFIED:20260106T174734Z
UID:10008466-1882857600-1882861200@keycolonybeach.net
SUMMARY:Pilates @ 7th St Park near Bocce/Shuffleboard Ct.
DESCRIPTION:
URL:https://keycolonybeach.net/event/pilates-2-2/2029-08-31/
END:VEVENT
BEGIN:VEVENT
DTSTART;TZID=America/New_York:20290903T080000
DTEND;TZID=America/New_York:20290903T090000
DTSTAMP:20260425T233847
CREATED:20260106T172903Z
LAST-MODIFIED:20260106T174734Z
UID:10008467-1883116800-1883120400@keycolonybeach.net
SUMMARY:Pilates @ 7th St Park near Bocce/Shuffleboard Ct.
DESCRIPTION:
URL:https://keycolonybeach.net/event/pilates-2-2/2029-09-03/
END:VEVENT
BEGIN:VEVENT
DTSTART;TZID=America/New_York:20290904T103000
DTEND;TZID=America/New_York:20290904T113000
DTSTAMP:20260425T233847
CREATED:20251219T165940Z
LAST-MODIFIED:20251219T165940Z
UID:10007605-1883212200-1883215800@keycolonybeach.net
SUMMARY:Property Management Class
DESCRIPTION:
URL:https://keycolonybeach.net/event/property-management-class-7/2029-09-04/
END:VEVENT
BEGIN:VEVENT
DTSTART;TZID=America/New_York:20290905T080000
DTEND;TZID=America/New_York:20290905T090000
DTSTAMP:20260425T233847
CREATED:20260106T172903Z
LAST-MODIFIED:20260106T174734Z
UID:10008468-1883289600-1883293200@keycolonybeach.net
SUMMARY:Pilates @ 7th St Park near Bocce/Shuffleboard Ct.
DESCRIPTION:
URL:https://keycolonybeach.net/event/pilates-2-2/2029-09-05/
END:VEVENT
BEGIN:VEVENT
DTSTART;TZID=America/New_York:20290907T080000
DTEND;TZID=America/New_York:20290907T090000
DTSTAMP:20260425T233847
CREATED:20260106T172903Z
LAST-MODIFIED:20260106T174734Z
UID:10008469-1883462400-1883466000@keycolonybeach.net
SUMMARY:Pilates @ 7th St Park near Bocce/Shuffleboard Ct.
DESCRIPTION:
URL:https://keycolonybeach.net/event/pilates-2-2/2029-09-07/
END:VEVENT
BEGIN:VEVENT
DTSTART;TZID=America/New_York:20290907T180000
DTEND;TZID=America/New_York:20290907T210000
DTSTAMP:20260425T233847
CREATED:20251027T182914Z
LAST-MODIFIED:20251027T182914Z
UID:10006389-1883498400-1883509200@keycolonybeach.net
SUMMARY:Boating & Fishing Club Meeting 6pm
DESCRIPTION:
URL:https://keycolonybeach.net/event/boating-fishing-club-meeting-6pm/2029-09-07/
END:VEVENT
BEGIN:VEVENT
DTSTART;TZID=America/New_York:20290910T080000
DTEND;TZID=America/New_York:20290910T090000
DTSTAMP:20260425T233847
CREATED:20260106T172903Z
LAST-MODIFIED:20260106T174734Z
UID:10008470-1883721600-1883725200@keycolonybeach.net
SUMMARY:Pilates @ 7th St Park near Bocce/Shuffleboard Ct.
DESCRIPTION:
URL:https://keycolonybeach.net/event/pilates-2-2/2029-09-10/
END:VEVENT
BEGIN:VEVENT
DTSTART;TZID=America/New_York:20290911T100000
DTEND;TZID=America/New_York:20290911T120000
DTSTAMP:20260425T233847
CREATED:20260415T122359Z
LAST-MODIFIED:20260415T122400Z
UID:10008903-1883815200-1883822400@keycolonybeach.net
SUMMARY:Beautification Meeting Zoom only
DESCRIPTION:
URL:https://keycolonybeach.net/event/beautification-meeting-7/2029-09-11/
END:VEVENT
BEGIN:VEVENT
DTSTART;TZID=America/New_York:20290912T080000
DTEND;TZID=America/New_York:20290912T090000
DTSTAMP:20260425T233847
CREATED:20260106T172903Z
LAST-MODIFIED:20260106T174734Z
UID:10008471-1883894400-1883898000@keycolonybeach.net
SUMMARY:Pilates @ 7th St Park near Bocce/Shuffleboard Ct.
DESCRIPTION:
URL:https://keycolonybeach.net/event/pilates-2-2/2029-09-12/
END:VEVENT
BEGIN:VEVENT
DTSTART;TZID=America/New_York:20290913T100000
DTEND;TZID=America/New_York:20290913T120000
DTSTAMP:20260425T233847
CREATED:20260409T173003Z
LAST-MODIFIED:20260409T173004Z
UID:10008844-1883988000-1883995200@keycolonybeach.net
SUMMARY:Recreation Committee Meeting 10:00 AM Zoom only
DESCRIPTION:
URL:https://keycolonybeach.net/event/recreation-meeting-330-pm-3/2029-09-13/
END:VEVENT
BEGIN:VEVENT
DTSTART;TZID=America/New_York:20290913T150000
DTEND;TZID=America/New_York:20290913T170000
DTSTAMP:20260425T233847
CREATED:20251017T145821Z
LAST-MODIFIED:20260126T150149Z
UID:10005175-1884006000-1884013200@keycolonybeach.net
SUMMARY:Book Club 3pm
DESCRIPTION:
URL:https://keycolonybeach.net/event/book-club-2/2029-09-13/
END:VEVENT
BEGIN:VEVENT
DTSTART;TZID=America/New_York:20290914T080000
DTEND;TZID=America/New_York:20290914T090000
DTSTAMP:20260425T233847
CREATED:20260106T172903Z
LAST-MODIFIED:20260106T174734Z
UID:10008472-1884067200-1884070800@keycolonybeach.net
SUMMARY:Pilates @ 7th St Park near Bocce/Shuffleboard Ct.
DESCRIPTION:
URL:https://keycolonybeach.net/event/pilates-2-2/2029-09-14/
END:VEVENT
BEGIN:VEVENT
DTSTART;TZID=America/New_York:20290917T080000
DTEND;TZID=America/New_York:20290917T090000
DTSTAMP:20260425T233847
CREATED:20260106T172903Z
LAST-MODIFIED:20260106T174734Z
UID:10008473-1884326400-1884330000@keycolonybeach.net
SUMMARY:Pilates @ 7th St Park near Bocce/Shuffleboard Ct.
DESCRIPTION:
URL:https://keycolonybeach.net/event/pilates-2-2/2029-09-17/
END:VEVENT
BEGIN:VEVENT
DTSTART;TZID=America/New_York:20290918T153000
DTEND;TZID=America/New_York:20290918T173000
DTSTAMP:20260425T233847
CREATED:20251219T185950Z
LAST-MODIFIED:20251219T185950Z
UID:10007747-1884439800-1884447000@keycolonybeach.net
SUMMARY:Utility Board Meeting
DESCRIPTION:
URL:https://keycolonybeach.net/event/utility-board-meeting-3/2029-09-18/
END:VEVENT
BEGIN:VEVENT
DTSTART;TZID=America/New_York:20290919T080000
DTEND;TZID=America/New_York:20290919T090000
DTSTAMP:20260425T233847
CREATED:20260106T172903Z
LAST-MODIFIED:20260106T174734Z
UID:10008474-1884499200-1884502800@keycolonybeach.net
SUMMARY:Pilates @ 7th St Park near Bocce/Shuffleboard Ct.
DESCRIPTION:
URL:https://keycolonybeach.net/event/pilates-2-2/2029-09-19/
END:VEVENT
BEGIN:VEVENT
DTSTART;TZID=America/New_York:20290919T153000
DTEND;TZID=America/New_York:20290919T173000
DTSTAMP:20260425T233847
CREATED:20241211T133223Z
LAST-MODIFIED:20251219T190512Z
UID:10007815-1884526200-1884533400@keycolonybeach.net
SUMMARY:Planning & Zoning Meeting
DESCRIPTION:
URL:https://keycolonybeach.net/event/planning-zoning-meeting-5/2029-09-19/
END:VEVENT
BEGIN:VEVENT
DTSTART;TZID=America/New_York:20290920T153000
DTEND;TZID=America/New_York:20290920T173000
DTSTAMP:20260425T233847
CREATED:20260421T164137Z
LAST-MODIFIED:20260421T164137Z
UID:10009011-1884612600-1884619800@keycolonybeach.net
SUMMARY:City Commission Regular Meeting & Public Hearing
DESCRIPTION:
URL:https://keycolonybeach.net/event/city-commission-regular-meeting-public-hearing-5-2/2029-09-20/
LOCATION:Marble Hall\, 600 W Ocean Drive\, Key Colony Beach\, FL\, 33051
END:VEVENT
BEGIN:VEVENT
DTSTART;TZID=America/New_York:20290921T080000
DTEND;TZID=America/New_York:20290921T090000
DTSTAMP:20260425T233847
CREATED:20260106T172903Z
LAST-MODIFIED:20260106T174734Z
UID:10008475-1884672000-1884675600@keycolonybeach.net
SUMMARY:Pilates @ 7th St Park near Bocce/Shuffleboard Ct.
DESCRIPTION:
URL:https://keycolonybeach.net/event/pilates-2-2/2029-09-21/
END:VEVENT
BEGIN:VEVENT
DTSTART;TZID=America/New_York:20290924T080000
DTEND;TZID=America/New_York:20290924T090000
DTSTAMP:20260425T233847
CREATED:20260106T172903Z
LAST-MODIFIED:20260106T174734Z
UID:10008476-1884931200-1884934800@keycolonybeach.net
SUMMARY:Pilates @ 7th St Park near Bocce/Shuffleboard Ct.
DESCRIPTION:
URL:https://keycolonybeach.net/event/pilates-2-2/2029-09-24/
END:VEVENT
BEGIN:VEVENT
DTSTART;TZID=America/New_York:20290926T080000
DTEND;TZID=America/New_York:20290926T090000
DTSTAMP:20260425T233847
CREATED:20260106T172903Z
LAST-MODIFIED:20260106T174734Z
UID:10008477-1885104000-1885107600@keycolonybeach.net
SUMMARY:Pilates @ 7th St Park near Bocce/Shuffleboard Ct.
DESCRIPTION:
URL:https://keycolonybeach.net/event/pilates-2-2/2029-09-26/
END:VEVENT
BEGIN:VEVENT
DTSTART;TZID=America/New_York:20290928T080000
DTEND;TZID=America/New_York:20290928T090000
DTSTAMP:20260425T233847
CREATED:20260106T172903Z
LAST-MODIFIED:20260106T174734Z
UID:10008478-1885276800-1885280400@keycolonybeach.net
SUMMARY:Pilates @ 7th St Park near Bocce/Shuffleboard Ct.
DESCRIPTION:
URL:https://keycolonybeach.net/event/pilates-2-2/2029-09-28/
END:VEVENT
BEGIN:VEVENT
DTSTART;TZID=America/New_York:20291001T080000
DTEND;TZID=America/New_York:20291001T090000
DTSTAMP:20260425T233847
CREATED:20260106T172903Z
LAST-MODIFIED:20260106T174734Z
UID:10008479-1885536000-1885539600@keycolonybeach.net
SUMMARY:Pilates @ 7th St Park near Bocce/Shuffleboard Ct.
DESCRIPTION:
URL:https://keycolonybeach.net/event/pilates-2-2/2029-10-01/
END:VEVENT
BEGIN:VEVENT
DTSTART;VALUE=DATE:20291002
DTEND;VALUE=DATE:20291003
DTSTAMP:20260425T233847
CREATED:20231128T135911Z
LAST-MODIFIED:20231128T135911Z
UID:10003933-1885593600-1885679999@keycolonybeach.net
SUMMARY:Ron Sutton Day
DESCRIPTION:
URL:https://keycolonybeach.net/event/ron-sutton-day/2029-10-02/
END:VEVENT
BEGIN:VEVENT
DTSTART;TZID=America/New_York:20291002T103000
DTEND;TZID=America/New_York:20291002T113000
DTSTAMP:20260425T233847
CREATED:20251219T165940Z
LAST-MODIFIED:20251219T165940Z
UID:10007606-1885631400-1885635000@keycolonybeach.net
SUMMARY:Property Management Class
DESCRIPTION:
URL:https://keycolonybeach.net/event/property-management-class-7/2029-10-02/
END:VEVENT
END:VCALENDAR