BEGIN:VCALENDAR
VERSION:2.0
PRODID:-//City of Key Colony Beach Official City Website - ECPv6.15.20//NONSGML v1.0//EN
CALSCALE:GREGORIAN
METHOD:PUBLISH
X-ORIGINAL-URL:https://keycolonybeach.net
X-WR-CALDESC:Events for City of Key Colony Beach Official City Website
REFRESH-INTERVAL;VALUE=DURATION:PT1H
X-Robots-Tag:noindex
X-PUBLISHED-TTL:PT1H
BEGIN:VTIMEZONE
TZID:America/New_York
BEGIN:DAYLIGHT
TZOFFSETFROM:-0500
TZOFFSETTO:-0400
TZNAME:EDT
DTSTART:20240310T070000
END:DAYLIGHT
BEGIN:STANDARD
TZOFFSETFROM:-0400
TZOFFSETTO:-0500
TZNAME:EST
DTSTART:20241103T060000
END:STANDARD
BEGIN:DAYLIGHT
TZOFFSETFROM:-0500
TZOFFSETTO:-0400
TZNAME:EDT
DTSTART:20250309T070000
END:DAYLIGHT
BEGIN:STANDARD
TZOFFSETFROM:-0400
TZOFFSETTO:-0500
TZNAME:EST
DTSTART:20251102T060000
END:STANDARD
BEGIN:DAYLIGHT
TZOFFSETFROM:-0500
TZOFFSETTO:-0400
TZNAME:EDT
DTSTART:20260308T070000
END:DAYLIGHT
BEGIN:STANDARD
TZOFFSETFROM:-0400
TZOFFSETTO:-0500
TZNAME:EST
DTSTART:20261101T060000
END:STANDARD
END:VTIMEZONE
BEGIN:VEVENT
DTSTART;TZID=America/New_York:20250701T103000
DTEND;TZID=America/New_York:20250701T120000
DTSTAMP:20260423T062326
CREATED:20250421T165207Z
LAST-MODIFIED:20250421T165207Z
UID:10005398-1751365800-1751371200@keycolonybeach.net
SUMMARY:Property Management Class - Tentative
DESCRIPTION:Zoom only
URL:https://keycolonybeach.net/event/property-management-class-tentative/
END:VEVENT
BEGIN:VEVENT
DTSTART;TZID=America/New_York:20250704T083000
DTEND;TZID=America/New_York:20250704T160000
DTSTAMP:20260423T062326
CREATED:20241211T181959Z
LAST-MODIFIED:20241211T181959Z
UID:10004209-1751617800-1751644800@keycolonybeach.net
SUMMARY:City Hall Closed/Fourth of July
DESCRIPTION:
URL:https://keycolonybeach.net/event/city-hall-closed-fourth-of-july/
END:VEVENT
BEGIN:VEVENT
DTSTART;TZID=America/New_York:20250708T100000
DTEND;TZID=America/New_York:20250708T113000
DTSTAMP:20260423T062326
CREATED:20250609T185035Z
LAST-MODIFIED:20250709T121439Z
UID:10005434-1751968800-1751974200@keycolonybeach.net
SUMMARY:Beautification Meeting
DESCRIPTION:
URL:https://keycolonybeach.net/event/beautification-meeting-3/
END:VEVENT
BEGIN:VEVENT
DTSTART;TZID=America/New_York:20250709T093000
DTEND;TZID=America/New_York:20250709T123000
DTSTAMP:20260423T062326
CREATED:20250630T195645Z
LAST-MODIFIED:20250630T195702Z
UID:10001294-1752053400-1752064200@keycolonybeach.net
SUMMARY:Dept. of Administrative Hearing**CANCELLED**
DESCRIPTION:Department of Administrative Hearing regarding current Code Violations.  This meeting will only be held via Zoom.
URL:https://keycolonybeach.net/event/dept-of-administrative-hearing-2-9/
END:VEVENT
BEGIN:VEVENT
DTSTART;TZID=America/New_York:20250710T093000
DTEND;TZID=America/New_York:20250710T120000
DTSTAMP:20260423T062326
CREATED:20250611T165050Z
LAST-MODIFIED:20250709T121339Z
UID:10005505-1752139800-1752148800@keycolonybeach.net
SUMMARY:City Commission Workshop #1 FY25/26 Budget Discussion
DESCRIPTION:
URL:https://keycolonybeach.net/event/city-commission-workshop-1-fy25-26-budget-discussion/
END:VEVENT
BEGIN:VEVENT
DTSTART;TZID=America/New_York:20250714T093000
DTEND;TZID=America/New_York:20250714T120000
DTSTAMP:20260423T062326
CREATED:20250611T165241Z
LAST-MODIFIED:20250611T165241Z
UID:10005506-1752485400-1752494400@keycolonybeach.net
SUMMARY:City Commission Workshop #2 FY25/26 Budget Discussion
DESCRIPTION:
URL:https://keycolonybeach.net/event/city-commission-workshop-2-fy25-26-budget-discussion/
END:VEVENT
BEGIN:VEVENT
DTSTART;TZID=America/New_York:20250715T153000
DTEND;TZID=America/New_York:20250715T173000
DTSTAMP:20260423T062326
CREATED:20241127T194830Z
LAST-MODIFIED:20251219T185551Z
UID:10007697-1752593400-1752600600@keycolonybeach.net
SUMMARY:Utility Board Meeting
DESCRIPTION:
URL:https://keycolonybeach.net/event/utility-board-meeting-2-2021-03-16-2-2-3-3-3-3/2025-07-15/
LOCATION:Marble Hall\, 600 W Ocean Drive\, Key Colony Beach\, FL\, 33051
END:VEVENT
BEGIN:VEVENT
DTSTART;TZID=America/New_York:20250716T093000
DTEND;TZID=America/New_York:20250716T113000
DTSTAMP:20260423T062326
CREATED:20250609T144254Z
LAST-MODIFIED:20250609T144255Z
UID:10004148-1752658200-1752665400@keycolonybeach.net
SUMMARY:Planning & Zoning Meeting**moved to 7/23/25
DESCRIPTION:
URL:https://keycolonybeach.net/event/planning-zoning-meeting-5-2/
END:VEVENT
BEGIN:VEVENT
DTSTART;TZID=America/New_York:20250717T153000
DTEND;TZID=America/New_York:20250717T173000
DTSTAMP:20260423T062326
CREATED:20230307T202007Z
LAST-MODIFIED:20260313T201533Z
UID:10007627-1752766200-1752773400@keycolonybeach.net
SUMMARY:City Commission Regular Meeting & Public Hearing
DESCRIPTION:
URL:https://keycolonybeach.net/event/city-commission-regular-meeting-public-hearing/2025-07-17/
LOCATION:Marble Hall\, 600 W Ocean Drive\, Key Colony Beach\, FL\, 33051
END:VEVENT
BEGIN:VEVENT
DTSTART;TZID=America/New_York:20250723T093000
DTEND;TZID=America/New_York:20250723T120000
DTSTAMP:20260423T062326
CREATED:20250609T144424Z
LAST-MODIFIED:20250609T144424Z
UID:10005503-1753263000-1753272000@keycolonybeach.net
SUMMARY:Planning and Zoning Meeting
DESCRIPTION:
URL:https://keycolonybeach.net/event/planning-and-zoning-meeting/
END:VEVENT
END:VCALENDAR